BEGIN:VCALENDAR
VERSION:2.0
PRODID:-//World Affairs Council of Connecticut - ECPv6.15.20//NONSGML v1.0//EN
CALSCALE:GREGORIAN
METHOD:PUBLISH
X-ORIGINAL-URL:https://ctwac.org
X-WR-CALDESC:Events for World Affairs Council of Connecticut
REFRESH-INTERVAL;VALUE=DURATION:PT1H
X-Robots-Tag:noindex
X-PUBLISHED-TTL:PT1H
BEGIN:VTIMEZONE
TZID:America/Halifax
BEGIN:DAYLIGHT
TZOFFSETFROM:-0400
TZOFFSETTO:-0300
TZNAME:ADT
DTSTART:20160313T060000
END:DAYLIGHT
BEGIN:STANDARD
TZOFFSETFROM:-0300
TZOFFSETTO:-0400
TZNAME:AST
DTSTART:20161106T050000
END:STANDARD
BEGIN:DAYLIGHT
TZOFFSETFROM:-0400
TZOFFSETTO:-0300
TZNAME:ADT
DTSTART:20170312T060000
END:DAYLIGHT
BEGIN:STANDARD
TZOFFSETFROM:-0300
TZOFFSETTO:-0400
TZNAME:AST
DTSTART:20171105T050000
END:STANDARD
BEGIN:DAYLIGHT
TZOFFSETFROM:-0400
TZOFFSETTO:-0300
TZNAME:ADT
DTSTART:20180311T060000
END:DAYLIGHT
BEGIN:STANDARD
TZOFFSETFROM:-0300
TZOFFSETTO:-0400
TZNAME:AST
DTSTART:20181104T050000
END:STANDARD
END:VTIMEZONE
BEGIN:VEVENT
DTSTART;TZID=America/Halifax:20170228T190000
DTEND;TZID=America/Halifax:20170228T203000
DTSTAMP:20260424T195352
CREATED:20170203T033039Z
LAST-MODIFIED:20180914T190328Z
UID:10000149-1488308400-1488313800@ctwac.org
SUMMARY:Ambassador Robert Ford: Syrian Conflict and Refugee Crisis
DESCRIPTION:Is there a new path forward in Syria? Deemed the worst humanitarian crisis of our time\, the ongoing conflict has spanned six years\, claimed an estimated 470\,000 lives\, and forced 11 million Syrians from their homes. Ambassador Robert Ford will discuss the conflict in Syria\, Russia’s involvement\, and the path forward for the United States. We will also be joined by Chris George\, Executive Director of IRIS\, to discuss the refugee crisis and the national response to refugee resettlement. \nFeaturing Ambassador Robert Ford\, senior fellow at the Middle East Institute in Washington\, senior fellow at the Jackson Institute for Global Affairs\, and former United States ambassador to Syria from 2011-2014. Ambassador Ford is the recipient of the Distinguished Service award\, the State Department’s highest award. \nAlso featuring Chris George\, Executive Director of the New Haven-based IRIS (Integrated Refugee and Immigrant Services)\, in discussion on the refugee crisis and the national response to refugee resettlement. \nProgram beings promptly at 7pm followed by opportunity for audience Q&A.\nFree parking on site\nGroup and Student ticket pricing available. To discuss group and student tickets\, or if ticket fees present an insurmountable barrier to attendance\, contact Amanda\, Program Manager\, at: (860) 241-6118 or ajolly@ctwac.org. \nSponsored by \nHosted by
URL:https://ctwac.org/event/ambassador-robert-ford-syrian-conflict-and-refugee-crisis/
LOCATION:William F. Starr Hall\, UConn School of Law\, 110 Sherman Street\, Hartford\, CT\, 06105\, US
ATTACH;FMTTYPE=image/png:https://ctwac.org/wp-content/uploads/2017/02/31727696394-27960667-1.png
END:VEVENT
END:VCALENDAR