BEGIN:VCALENDAR
VERSION:2.0
PRODID:-//World Affairs Council of Connecticut - ECPv6.15.20//NONSGML v1.0//EN
CALSCALE:GREGORIAN
METHOD:PUBLISH
X-ORIGINAL-URL:https://ctwac.org
X-WR-CALDESC:Events for World Affairs Council of Connecticut
REFRESH-INTERVAL;VALUE=DURATION:PT1H
X-Robots-Tag:noindex
X-PUBLISHED-TTL:PT1H
BEGIN:VTIMEZONE
TZID:America/New_York
BEGIN:DAYLIGHT
TZOFFSETFROM:-0500
TZOFFSETTO:-0400
TZNAME:EDT
DTSTART:20230312T070000
END:DAYLIGHT
BEGIN:STANDARD
TZOFFSETFROM:-0400
TZOFFSETTO:-0500
TZNAME:EST
DTSTART:20231105T060000
END:STANDARD
BEGIN:DAYLIGHT
TZOFFSETFROM:-0500
TZOFFSETTO:-0400
TZNAME:EDT
DTSTART:20240310T070000
END:DAYLIGHT
BEGIN:STANDARD
TZOFFSETFROM:-0400
TZOFFSETTO:-0500
TZNAME:EST
DTSTART:20241103T060000
END:STANDARD
BEGIN:DAYLIGHT
TZOFFSETFROM:-0500
TZOFFSETTO:-0400
TZNAME:EDT
DTSTART:20250309T070000
END:DAYLIGHT
BEGIN:STANDARD
TZOFFSETFROM:-0400
TZOFFSETTO:-0500
TZNAME:EST
DTSTART:20251102T060000
END:STANDARD
END:VTIMEZONE
BEGIN:VTIMEZONE
TZID:America/Halifax
BEGIN:DAYLIGHT
TZOFFSETFROM:-0400
TZOFFSETTO:-0300
TZNAME:ADT
DTSTART:20170312T060000
END:DAYLIGHT
BEGIN:STANDARD
TZOFFSETFROM:-0300
TZOFFSETTO:-0400
TZNAME:AST
DTSTART:20171105T050000
END:STANDARD
BEGIN:DAYLIGHT
TZOFFSETFROM:-0400
TZOFFSETTO:-0300
TZNAME:ADT
DTSTART:20180311T060000
END:DAYLIGHT
BEGIN:STANDARD
TZOFFSETFROM:-0300
TZOFFSETTO:-0400
TZNAME:AST
DTSTART:20181104T050000
END:STANDARD
BEGIN:DAYLIGHT
TZOFFSETFROM:-0400
TZOFFSETTO:-0300
TZNAME:ADT
DTSTART:20190310T060000
END:DAYLIGHT
BEGIN:STANDARD
TZOFFSETFROM:-0300
TZOFFSETTO:-0400
TZNAME:AST
DTSTART:20191103T050000
END:STANDARD
END:VTIMEZONE
BEGIN:VEVENT
DTSTART;TZID=America/New_York:20240305T170000
DTEND;TZID=America/New_York:20240305T190000
DTSTAMP:20260424T171504
CREATED:20240220T214528Z
LAST-MODIFIED:20240228T140518Z
UID:10000322-1709658000-1709665200@ctwac.org
SUMMARY:Global Changemakers with H.E. Roya Rahmani | International Women's Day 2024
DESCRIPTION:Ambassador Roya Rahmani\, former Ambassador of Afghanistan to the U.S.\, joins us to celebrate International Women’s Day at the University of Saint Joseph. Ambassador Rahmani will discuss women’s rights in Afghanistan and her role as a changemaker. In conversation with CTWAC CEO Megan Torrey. \nThis important event represents an ongoing collaboration between the Women’s Leadership Center at the University of Saint Joseph and the World Affairs Council of Connecticut. \n\nThe Details:\nWhen: Tuesday\, March 5th | 5:00 PM-7:00PM \nWhere: Hoffman Auditorium\, University of Saint Joseph \nTickets: Free\, RSVP required | Reserve your seat \n\nAbout the speaker:\n\nAmbassador Roya Rahmani | Former Ambassador of Afghanistan to the U.S. | Chair of Delphos International Ltd \nAmbassador Rahmani is Chair of Delphos International\, where she plays a pivotal role in expanding the firm’s business networks\, enhancing its global reach\, and amplifying its impact. She also serves as a Senior Advisor with the South Asia practice at Atlantic Council\, and a Senior Fellow for International Security at the New America Foundation. \nAmb. Rahmani is a former diplomat with nearly two decades of experience working with governments\, nongovernmental organizations\, and multilateral institutions. She holds the distinction of being the first woman to serve as the Afghan Ambassador to the United States and to Indonesia. She also held the position of the first Director General for Regional Cooperation at the Ministry of Foreign Affairs of Afghanistan. Her outstanding leadership has earned international recognition\, with features in esteemed media outlets. In 2017\, Indonesia Tatler honored her with the title of “People’s Ambassador\,” and in 2019\, she was recognized on Time Magazine’s “100 Next List” for her exceptional leadership skills. \nShe holds a bachelor’s degree in software engineering from McGill University and a master’s degree in public administration and international law from Columbia University. \n\nHosted by\n \n  \n  \n  \n  \n  \n  \n\nStay Globally Involved\nAs a member of the World Affairs Council of Connecticut\, you can get exclusive access to events and travel opportunities\, build relationships with local leaders and global dignitaries\, and join our community of global citizens. Let us bring the world to you. \nRenew your membership or become a member on our website. Join now to access exclusive events and discounted pricing.
URL:https://ctwac.org/event/global-changemakers-with-h-e-roya-rahmani-international-womens-day-2024/
LOCATION:University of Saint Joseph\, Hoffman Auditorium\, 1678 Asylum Avenue\, West Hartford\, CT\, 06117\, US
ATTACH;FMTTYPE=image/png:https://ctwac.org/wp-content/uploads/2024/02/IWD-Ambassador-Rahmani-2024-Website.png
END:VEVENT
BEGIN:VEVENT
DTSTART;TZID=America/Halifax:20180307T170000
DTEND;TZID=America/Halifax:20180307T191500
DTSTAMP:20260424T171504
CREATED:20180307T025319Z
LAST-MODIFIED:20180914T190541Z
UID:10000095-1520442000-1520450100@ctwac.org
SUMMARY:Global Changemakers: International Women's Day Celebration
DESCRIPTION:**Postponed**\nUnfortunately\, due to impending inclement weather\, we are postponing the event. The event will no longer take place on March 7\, 2018. Stay tuned – rescheduled date to be announced soon! \nInternational Women’s Day is a global day celebrating the social\, economic\, cultural and political achievements of women.\nOn March 7\, we celebrate global changemakers – women pressing for progress at the edge of today’s most prominent global movements.\nFeaturing a panel of distinguished women: \nBayartsetseg Jigmiddash has held senior government positions in the justice sector and has been at the forefront of Mongolia’s far-reaching reform initiatives. Currently\, she is CEO and Founding Director of Veritas Consulting. From 2012 to 2016\, Jigmiddash served as Secretary of State of the Ministry of Justice of Mongolia\, becoming the first woman appointed in this position. Under her leadership\, the legal policy on gender-based violence has been significantly improved\, including criminalization of domestic violence. Prior to this top civil service post\, she served as legal advisor to the president of Mongolia\, and has been involved in the judicial reform as well as abolishment of death penalty in Mongolia. She has extensive civil society experience and pioneered an array of initiatives to promote human rights and access to justice.\nStephenie Foster is a Partner in Smash Strategies and a former Senior Advisor and Counselor to the Ambassador-at-Large for Global Women’s Issues at the U.S Department of State. As a member of the leadership team\, she coordinated\, managed and implemented a wide range of policies and programs\, including the women\, peace and security initiative\, women’s political participation and women’s economic empowerment. At the State Department\, Ms. Foster represented the United States in various multilateral and bilateral forums. She served at the U.S. Embassy in Kabul\, Afghanistan\, focusing on women and civil society\, travelling extensively throughout the country to work with individuals and organizations advancing the role of women in Afghan society. Ms. Foster served as Chief of Staff to two United States Senators\, Barbara Mikulski and Christopher Dodd. \nJosepha M. N. Musabyemariya is the United States Rwandan Community Abroad (USRCA) Commissioner for Gender and Social Affairs. She also is President of Rwandan Community Abroad (RCA) in Maryland\, District of Columbia and Virginia (DMV). She has more than 25 years of experience in handling special projects and initiatives designed to positively impact lives of people in her home country of Rwanda\,  the communities in and outside DMV and around the globe. She works for the African Union in the U.S.  In this office\, she was among the handful of individuals charged with setting up the African Union office in Washington DC which was just prior to the arrival and assumption of duties of the first Permanent Representative in 2006. Josepha’s passion lies in dealing with all issues concerning gender and women empowerment. \n5:00pm | Reception\n6:00pm | Event followed by opportunity for audience Q&A\nSponsored By: \nPresented By: \nIn Partnership With
URL:https://ctwac.org/event/global-changemakers-international-womens-day-celebration/
LOCATION:University of Saint Joseph\, Hoffman Auditorium\, 1678 Asylum Avenue\, West Hartford\, CT\, 06117\, US
ATTACH;FMTTYPE=image/png:https://ctwac.org/wp-content/uploads/2018/03/43142732073-41825268-1.png
END:VEVENT
END:VCALENDAR