BEGIN:VCALENDAR
VERSION:2.0
PRODID:-//World Affairs Council of Connecticut - ECPv6.15.20//NONSGML v1.0//EN
CALSCALE:GREGORIAN
METHOD:PUBLISH
X-ORIGINAL-URL:https://ctwac.org
X-WR-CALDESC:Events for World Affairs Council of Connecticut
REFRESH-INTERVAL;VALUE=DURATION:PT1H
X-Robots-Tag:noindex
X-PUBLISHED-TTL:PT1H
BEGIN:VTIMEZONE
TZID:America/Halifax
BEGIN:DAYLIGHT
TZOFFSETFROM:-0400
TZOFFSETTO:-0300
TZNAME:ADT
DTSTART:20170312T060000
END:DAYLIGHT
BEGIN:STANDARD
TZOFFSETFROM:-0300
TZOFFSETTO:-0400
TZNAME:AST
DTSTART:20171105T050000
END:STANDARD
BEGIN:DAYLIGHT
TZOFFSETFROM:-0400
TZOFFSETTO:-0300
TZNAME:ADT
DTSTART:20180311T060000
END:DAYLIGHT
BEGIN:STANDARD
TZOFFSETFROM:-0300
TZOFFSETTO:-0400
TZNAME:AST
DTSTART:20181104T050000
END:STANDARD
BEGIN:DAYLIGHT
TZOFFSETFROM:-0400
TZOFFSETTO:-0300
TZNAME:ADT
DTSTART:20190310T060000
END:DAYLIGHT
BEGIN:STANDARD
TZOFFSETFROM:-0300
TZOFFSETTO:-0400
TZNAME:AST
DTSTART:20191103T050000
END:STANDARD
END:VTIMEZONE
BEGIN:VEVENT
DTSTART;TZID=America/Halifax:20180607T180000
DTEND;TZID=America/Halifax:20180607T191500
DTSTAMP:20260424T231629
CREATED:20180525T211046Z
LAST-MODIFIED:20180914T190605Z
UID:10000150-1528394400-1528398900@ctwac.org
SUMMARY:The Trade: Terrorism and Political Kidnapping
DESCRIPTION:“A kidnapping victim is a commodity” – Jere Van Dyk  \nIn 2008\, investigative journalist Jere Van Dyk was kidnapped and imprisoned for 45 days by the Taliban. He spent roughly one thousand and eighty hours in an ominously dark 12-by-12 cell. To this day the details of his release are unclear\, no prisoners were exchanged and it’s not known whether or not a ransom was paid. “All he knows is that he made it home\,” (NPR). \nWhat Van Dyk uncovered on his return was not just the story of his own abduction\, but a highly sophisticated\, and lucrative\, network of kidnapping operations that finance terrorist organizations all over the world. \nOn Thursday June 7\, Dan Haar (Associate Editor at Hearst Connecticut Media) joins Jere Van Dyk for an in-depth conversation about this stock exchange of human life. Discussion followed by book sale and signing. \nSpace Limited – RSVP to reserve your spot! \nHosted by The World Affairs Council of Connecticut in partnership with The Invisible Hand now playing at TheaterWorks
URL:https://ctwac.org/event/the-trade-terrorism-and-political-kidnapping/
LOCATION:UConn Hartford\, Room 145\, Hartford Times Building\, 10 Prospect St\, Hartford\, CT\, 06103\, US
ATTACH;FMTTYPE=image/jpeg:https://ctwac.org/wp-content/uploads/2018/05/46421839973-45312275-4.jpg
END:VEVENT
END:VCALENDAR