BEGIN:VCALENDAR
VERSION:2.0
PRODID:-//World Affairs Council of Connecticut - ECPv6.15.20//NONSGML v1.0//EN
CALSCALE:GREGORIAN
METHOD:PUBLISH
X-WR-CALNAME:World Affairs Council of Connecticut
X-ORIGINAL-URL:https://ctwac.org
X-WR-CALDESC:Events for World Affairs Council of Connecticut
REFRESH-INTERVAL;VALUE=DURATION:PT1H
X-Robots-Tag:noindex
X-PUBLISHED-TTL:PT1H
BEGIN:VTIMEZONE
TZID:America/Halifax
BEGIN:DAYLIGHT
TZOFFSETFROM:-0400
TZOFFSETTO:-0300
TZNAME:ADT
DTSTART:20160313T060000
END:DAYLIGHT
BEGIN:STANDARD
TZOFFSETFROM:-0300
TZOFFSETTO:-0400
TZNAME:AST
DTSTART:20161106T050000
END:STANDARD
BEGIN:DAYLIGHT
TZOFFSETFROM:-0400
TZOFFSETTO:-0300
TZNAME:ADT
DTSTART:20170312T060000
END:DAYLIGHT
BEGIN:STANDARD
TZOFFSETFROM:-0300
TZOFFSETTO:-0400
TZNAME:AST
DTSTART:20171105T050000
END:STANDARD
BEGIN:DAYLIGHT
TZOFFSETFROM:-0400
TZOFFSETTO:-0300
TZNAME:ADT
DTSTART:20180311T060000
END:DAYLIGHT
BEGIN:STANDARD
TZOFFSETFROM:-0300
TZOFFSETTO:-0400
TZNAME:AST
DTSTART:20181104T050000
END:STANDARD
BEGIN:DAYLIGHT
TZOFFSETFROM:-0400
TZOFFSETTO:-0300
TZNAME:ADT
DTSTART:20190310T060000
END:DAYLIGHT
BEGIN:STANDARD
TZOFFSETFROM:-0300
TZOFFSETTO:-0400
TZNAME:AST
DTSTART:20191103T050000
END:STANDARD
END:VTIMEZONE
BEGIN:VEVENT
DTSTART;TZID=America/Halifax:20181009T180000
DTEND;TZID=America/Halifax:20181009T200000
DTSTAMP:20260424T192444
CREATED:20180914T213132Z
LAST-MODIFIED:20190108T185542Z
UID:10000048-1539108000-1539115200@ctwac.org
SUMMARY:CHINA Town Hall
DESCRIPTION:No relationship will be as important to the twenty-first century as the one between the United States\, the world’s great power\, and China\, the world’s rising power. – Council on Foreign Relations \nJoin 80+ communities across the United States in a national conversation on China. Featuring an interactive webcast with The Honorable Condoleezza Rice\, Former Secretary of State and National Security Advisor and on-site panel of experts on the rise of China and the U.S.-China relationship. \n \nThe Honorable Condoleezza Rice\, Former Secretary of State and National Security Advisor\n2018 National Webcast Speaker \nFrom January 2005 to 2009\, Secretary Rice served as the 66th Secretary of State of the United States\, the second woman and first African American woman to hold the post. She also served as President George W. Bush’s Assistant to the President for National Security Affairs (National Security Advisor) from January 2001 to 2005\, the first woman to hold the position. Secretary Rice is currently the Denning Professor in Global Business and the Economy at the Stanford Graduate School of Business\, Thomas and Barbara Stephenson Senior Fellow on Public Policy at the Hoover Institution\, and professor of Political Science at Stanford University. She is also a founding partner of RiceHadleyGates\, LLC. \n  \n  \nExpert Live Speakers include: \n\nDr. Zhao Yumin\, acting Consul General of China in New York\nDr. Tu Yichao\, Associate Professor at Center for American Studies\, Fudan University; Thomas Visiting Professor at Trinity College’s Center for Urban and Global Studies\nDr. Xiangming Chen\, Director\, Center for Urban and Global Studies\, Trinity College\, Moderator\n\n  \nRefreshments will be served. \n  \nA partnership of
URL:https://ctwac.org/event/china-town-hall-3/
LOCATION:Trinity College\, Mather Hall\, Washington Room\, 300 Summit Street\, Hartford\, Connecticut\, 06106\, US
END:VEVENT
BEGIN:VEVENT
DTSTART;TZID=America/Halifax:20171024T180000
DTEND;TZID=America/Halifax:20171024T200000
DTSTAMP:20260424T192444
CREATED:20171010T201315Z
LAST-MODIFIED:20190108T185801Z
UID:10000110-1508868000-1508875200@ctwac.org
SUMMARY:CHINA Town Hall
DESCRIPTION:No relationship will be as important to the twenty-first century as the one between the United States\, the world’s great power\, and China\, the world’s rising power. – Council on Foreign Relations\nJoin 80+ communities across the United States in a national conversation on China. Featuring an interactive webcast with Ambassador Susan Rice and on-site panel discussion exploring how the U.S.-China relationship directly impacts us here in Connecticut. \nThe Honorable Susan E. Rice\, former National Security Advisor and U.S. Ambassador to the UN\n2017 National Webcast Speaker\nAmbassador Susan E. Rice served President Obama as a national security advisor and U.S. permanent representative to the United Nations. In her role as national security advisor from July 1\, 2013\, to January 20\,\n2017\, Ambassador Rice led the National Security Council staff and chaired the Cabinet-level National Security Principals Committee. She was responsible for coordinating the formulation and implementation of all aspects of the Administration’s foreign and national security policy\, intelligence\, and military efforts.\nLocal panelists include: \nDong Xue\, Consul\, The Economic & Commercial Office\, the Consulate General of China\, New York\nDonald Chapman\, Director of Community and Small Business Development\, City of Hartford\nDave Manke\, Vice President for International Government Relations\, United Technology Corporation\nPeter C. Bennett\, Career Services & Corporate Outreach\, UCONN School of Business\nXiangming Chen\, Director\, Center for Urban and Global Studies\, Trinity College\, Moderator \nRefreshments will be served.\nA partnership of
URL:https://ctwac.org/event/china-town-hall/
LOCATION:Trinity College\, Mather Hall\, Washington Room\, 300 Summit Street\, Hartford\, Connecticut\, 06106\, US
END:VEVENT
END:VCALENDAR