BEGIN:VCALENDAR
VERSION:2.0
PRODID:-//World Affairs Council of Connecticut - ECPv6.15.20//NONSGML v1.0//EN
CALSCALE:GREGORIAN
METHOD:PUBLISH
X-WR-CALNAME:World Affairs Council of Connecticut
X-ORIGINAL-URL:https://ctwac.org
X-WR-CALDESC:Events for World Affairs Council of Connecticut
REFRESH-INTERVAL;VALUE=DURATION:PT1H
X-Robots-Tag:noindex
X-PUBLISHED-TTL:PT1H
BEGIN:VTIMEZONE
TZID:UTC
BEGIN:STANDARD
TZOFFSETFROM:+0000
TZOFFSETTO:+0000
TZNAME:UTC
DTSTART:20160101T000000
END:STANDARD
END:VTIMEZONE
BEGIN:VEVENT
DTSTART;TZID=UTC:20170425T110000
DTEND;TZID=UTC:20170425T130000
DTSTAMP:20260424T174614
CREATED:20170406T221616Z
LAST-MODIFIED:20170406T221616Z
UID:10000009-1493118000-1493125200@ctwac.org
SUMMARY:CT Export Week Luncheon | Doing Business in Brazil
DESCRIPTION:Join the U.S. Commercial Service\, World Affairs Council of Connecticut\, Connecticut District Export Council and Shipman & Goodwin to explore Doing Business in Brazil\, specifically opportunities for U.S. exporters in the infrastructure and healthcare/health IT sectors. Speakers will include Department of Commerce Brazil Spet and Santander Bank. Come join us to learn about the opportunities and resources in the market for USA companies\, support available to exporters who encounter trade barriers\, and what ITA is doing to reduce and eliminate these barriers. \nThis event is free. Pre-registration is required. \nRegistration: https://emenuapps.ita.doc.gov/ePublic/event/editWebReg.do?SmartCode=7QA7 \n  \nFor more information\, please contact Anthony.Sargis@trade.gov
URL:https://ctwac.org/event/ct-export-week-luncheon-business-brazil/
LOCATION:Shipman & Goodwin\, One Constitution Plaza\, Hartford\, CT
ATTACH;FMTTYPE=image/png:https://ctwac.org/wp-content/uploads/2017/04/Brazil-Opportunity-Luncheon.png
END:VEVENT
END:VCALENDAR