BEGIN:VCALENDAR
VERSION:2.0
PRODID:-//World Affairs Council of Connecticut - ECPv6.15.20//NONSGML v1.0//EN
CALSCALE:GREGORIAN
METHOD:PUBLISH
X-WR-CALNAME:World Affairs Council of Connecticut
X-ORIGINAL-URL:https://ctwac.org
X-WR-CALDESC:Events for World Affairs Council of Connecticut
REFRESH-INTERVAL;VALUE=DURATION:PT1H
X-Robots-Tag:noindex
X-PUBLISHED-TTL:PT1H
BEGIN:VTIMEZONE
TZID:America/Halifax
BEGIN:DAYLIGHT
TZOFFSETFROM:-0400
TZOFFSETTO:-0300
TZNAME:ADT
DTSTART:20160313T060000
END:DAYLIGHT
BEGIN:STANDARD
TZOFFSETFROM:-0300
TZOFFSETTO:-0400
TZNAME:AST
DTSTART:20161106T050000
END:STANDARD
BEGIN:DAYLIGHT
TZOFFSETFROM:-0400
TZOFFSETTO:-0300
TZNAME:ADT
DTSTART:20170312T060000
END:DAYLIGHT
BEGIN:STANDARD
TZOFFSETFROM:-0300
TZOFFSETTO:-0400
TZNAME:AST
DTSTART:20171105T050000
END:STANDARD
BEGIN:DAYLIGHT
TZOFFSETFROM:-0400
TZOFFSETTO:-0300
TZNAME:ADT
DTSTART:20180311T060000
END:DAYLIGHT
BEGIN:STANDARD
TZOFFSETFROM:-0300
TZOFFSETTO:-0400
TZNAME:AST
DTSTART:20181104T050000
END:STANDARD
BEGIN:DAYLIGHT
TZOFFSETFROM:-0400
TZOFFSETTO:-0300
TZNAME:ADT
DTSTART:20190310T060000
END:DAYLIGHT
BEGIN:STANDARD
TZOFFSETFROM:-0300
TZOFFSETTO:-0400
TZNAME:AST
DTSTART:20191103T050000
END:STANDARD
END:VTIMEZONE
BEGIN:VEVENT
DTSTART;TZID=America/Halifax:20180123T120000
DTEND;TZID=America/Halifax:20180123T133000
DTSTAMP:20260424T193109
CREATED:20180112T033105Z
LAST-MODIFIED:20180914T190457Z
UID:10000102-1516708800-1516714200@ctwac.org
SUMMARY:Global Economic Outlook 2018
DESCRIPTION:SOLD OUT\nFor any inquiries\, please contact Program Director Amanda at (860) 724-2953 or ajolly@ctwac.org.   \nSpace Limited for this exclusive event featuring a three-course lunch at Max Downtown and expert discussion on the key insights you need to know to navigate the unpredictable economic landscape we’re poised to enter in 2018. \nNow is the time to join us for a frank conversation on our global economic future. \nFeaturing analysis and discussion with Connecticut-based expert Edward Guay\, Principal at Wintonbury Risk Management and global macrostrategist. \nDoors open at 11:30am for registration and networking. Lunch and presentation commences at noon\, to be followed by audience Q&A.
URL:https://ctwac.org/event/global-economic-outlook-2018/
LOCATION:Max Downtown\, 185 Asylum St\, Hartford\, CT\, 06103\, US
ATTACH;FMTTYPE=image/jpeg:https://ctwac.org/wp-content/uploads/2018/01/41045112035-38413732-1.jpg
END:VEVENT
BEGIN:VEVENT
DTSTART;TZID=America/Halifax:20170201T120000
DTEND;TZID=America/Halifax:20170201T133000
DTSTAMP:20260424T193109
CREATED:20161122T010527Z
LAST-MODIFIED:20180914T190321Z
UID:10000001-1485950400-1485955800@ctwac.org
SUMMARY:Global Economic Outlook 2017
DESCRIPTION:**SOLD OUT**\nThis event is sold out. For any questions\, please contact the CTWAC office at: (860) 241-6118. \nSpace Limited for this exclusive event featuring a three-course lunch at Max Downtown and expert discussion on the key insights you need to know to navigate the unpredictable economic landscape we’re poised to enter in 2017.\nOur nation is in a pivotal moment\, the consequences of which have rocked global financial markets. With uncertainty pervading the global economy\, now is the time to join us for a frank discussion on our economic future.\nFeaturing analysis and discussion with Connecticut-based expert Edward Guay\, Principal at Wintonbury Risk Management and global macrostrategist.\nDoors open at 11:30am for registration and networking. Lunch and presentation commences at noon\, to be followed by audience Q&A.
URL:https://ctwac.org/event/global-economic-outlook-2017/
LOCATION:Max Downtown\, 185 Asylum St\, Hartford\, CT\, 06103\, US
ATTACH;FMTTYPE=image/png:https://ctwac.org/wp-content/uploads/2016/11/29316057116-25820611-2.png
END:VEVENT
END:VCALENDAR