BEGIN:VCALENDAR
VERSION:2.0
PRODID:-//World Affairs Council of Connecticut - ECPv6.15.20//NONSGML v1.0//EN
CALSCALE:GREGORIAN
METHOD:PUBLISH
X-WR-CALNAME:World Affairs Council of Connecticut
X-ORIGINAL-URL:https://ctwac.org
X-WR-CALDESC:Events for World Affairs Council of Connecticut
REFRESH-INTERVAL;VALUE=DURATION:PT1H
X-Robots-Tag:noindex
X-PUBLISHED-TTL:PT1H
BEGIN:VTIMEZONE
TZID:America/Halifax
BEGIN:DAYLIGHT
TZOFFSETFROM:-0400
TZOFFSETTO:-0300
TZNAME:ADT
DTSTART:20160313T060000
END:DAYLIGHT
BEGIN:STANDARD
TZOFFSETFROM:-0300
TZOFFSETTO:-0400
TZNAME:AST
DTSTART:20161106T050000
END:STANDARD
BEGIN:DAYLIGHT
TZOFFSETFROM:-0400
TZOFFSETTO:-0300
TZNAME:ADT
DTSTART:20170312T060000
END:DAYLIGHT
BEGIN:STANDARD
TZOFFSETFROM:-0300
TZOFFSETTO:-0400
TZNAME:AST
DTSTART:20171105T050000
END:STANDARD
BEGIN:DAYLIGHT
TZOFFSETFROM:-0400
TZOFFSETTO:-0300
TZNAME:ADT
DTSTART:20180311T060000
END:DAYLIGHT
BEGIN:STANDARD
TZOFFSETFROM:-0300
TZOFFSETTO:-0400
TZNAME:AST
DTSTART:20181104T050000
END:STANDARD
END:VTIMEZONE
BEGIN:VEVENT
DTSTART;TZID=America/Halifax:20170418T183000
DTEND;TZID=America/Halifax:20170418T194500
DTSTAMP:20260424T193610
CREATED:20170407T235321Z
LAST-MODIFIED:20180914T190352Z
UID:10000013-1492540200-1492544700@ctwac.org
SUMMARY:Fake News\, Real War
DESCRIPTION:Can fake news lead to war?\n Fake news isn’t new. With all the talk about fake news in the political cycle\, Ned Lamont will take a look at 100 years of fake news\, from “Remember the Maine” to Gulf of Tonkin to Granada and weapons of mass destruction. Join us as we discuss the real foreign policy uses and impacts of fake news throughout our history and what this means for the U.S. today.  \nFeaturing Ned Lamont\, Chairman of Lamont Digital Systems and founder of Campus TeleVideo. He is also a Distinguished Professor of Philosophy and Political Science at Central Connecticut State University. He previously taught at Yale School of Management\, where he serves on the Board of Advisors\, and the Harvard Institute of Politics\, where he serves on the Dean’s Council. Ned was the Democratic candidate of US Senate from Connecticut in 2006.\nFree and convenient parking on site\nRSVP for your free tickets here
URL:https://ctwac.org/event/fake-news-real-war/
LOCATION:Mark Twain House\, 351 Farmington Ave\, Hartford\, CT\, 06105\, US
ATTACH;FMTTYPE=image/png:https://ctwac.org/wp-content/uploads/2017/04/33056076615-29562050-1.png
END:VEVENT
BEGIN:VEVENT
DTSTART;TZID=America/Halifax:20170308T183000
DTEND;TZID=America/Halifax:20170308T200000
DTSTAMP:20260424T193610
CREATED:20170221T010820Z
LAST-MODIFIED:20180914T190342Z
UID:10000151-1488997800-1489003200@ctwac.org
SUMMARY:Russia & the U.S. in the Trump Era
DESCRIPTION:What will the relationship between Russia and the U.S look like under the Trump presidency? \nFeaturing Thomas Graham\, managing director at Kissinger Associates\, Inc.\, focused on Russian and Eurasian affairs. Mr. Graham is also a Senior Fellow at the Jackson Institute for Global Affairs and one of the founders and co-Directors of the Russian Studies Project at Yale. He was Special Assistant to the President and Senior Director for Russia on the National Security Council staff from 2004 to 2007 and Director for Russian Affairs on that staff from 2002 to 2004. \nModerated by Peter Rutland of Wesleyan University.\nFree and convenient parking on site\nGroup and Student ticket pricing available. To discuss group and student tickets\, or if ticket fees present an insurmountable barrier to attendance\, contact Amanda\, Program Manager\, at: (860) 241-6118 or ajolly@ctwac.org.\nSponsored by
URL:https://ctwac.org/event/russia-the-u-s-in-the-trump-era/
LOCATION:Mark Twain House\, 351 Farmington Ave\, Hartford\, CT\, 06105\, US
ATTACH;FMTTYPE=image/png:https://ctwac.org/wp-content/uploads/2017/02/32234867356-28530641-1.png
END:VEVENT
END:VCALENDAR