BEGIN:VCALENDAR
VERSION:2.0
PRODID:-//World Affairs Council of Connecticut - ECPv6.15.20//NONSGML v1.0//EN
CALSCALE:GREGORIAN
METHOD:PUBLISH
X-ORIGINAL-URL:https://ctwac.org
X-WR-CALDESC:Events for World Affairs Council of Connecticut
REFRESH-INTERVAL;VALUE=DURATION:PT1H
X-Robots-Tag:noindex
X-PUBLISHED-TTL:PT1H
BEGIN:VTIMEZONE
TZID:America/Halifax
BEGIN:DAYLIGHT
TZOFFSETFROM:-0400
TZOFFSETTO:-0300
TZNAME:ADT
DTSTART:20170312T060000
END:DAYLIGHT
BEGIN:STANDARD
TZOFFSETFROM:-0300
TZOFFSETTO:-0400
TZNAME:AST
DTSTART:20171105T050000
END:STANDARD
BEGIN:DAYLIGHT
TZOFFSETFROM:-0400
TZOFFSETTO:-0300
TZNAME:ADT
DTSTART:20180311T060000
END:DAYLIGHT
BEGIN:STANDARD
TZOFFSETFROM:-0300
TZOFFSETTO:-0400
TZNAME:AST
DTSTART:20181104T050000
END:STANDARD
BEGIN:DAYLIGHT
TZOFFSETFROM:-0400
TZOFFSETTO:-0300
TZNAME:ADT
DTSTART:20190310T060000
END:DAYLIGHT
BEGIN:STANDARD
TZOFFSETFROM:-0300
TZOFFSETTO:-0400
TZNAME:AST
DTSTART:20191103T050000
END:STANDARD
END:VTIMEZONE
BEGIN:VEVENT
DTSTART;TZID=America/Halifax:20180612T180000
DTEND;TZID=America/Halifax:20180612T191500
DTSTAMP:20260424T230604
CREATED:20180525T212535Z
LAST-MODIFIED:20180914T190606Z
UID:10000148-1528826400-1528830900@ctwac.org
SUMMARY:Killing the Iran Deal: What Happens Now?
DESCRIPTION:Killing the Iran Deal: What Happens Now?\nOn May 8\, President Trump announced the withdrawal of the U.S. from the Iran Nuclear Deal dubbing it\, “a horrible one-sided deal that should never\, ever have been made”. Today\, as the U.S. faces additional nuclear tensions with North Korea\, rising tensions with Iran\, and a break from European Allies on the Iran Deal\, many around the world are asking: what happens now? \nDr. Trita Parsi\, the preeminent Middle East foreign policy expert who advised the Obama White House throughout the Iran talks\, joins us to discuss the inner-workings of creating the Iran Deal and explore the options and consequences of a U.S. withdrawal from the agreement. \nDiscussion followed by audience Q+A and book sale and signing. \nFeaturing\nTrita Parsi is the 2010 recipient of the $200\,000 Grawemeyer Award for Ideas Improving World Order. He is an award-winning author with a focus on US foreign policy in the Middle East. His first book\, Treacherous Alliance – The Secret Dealings of Israel\, Iran and the US (Yale University Press\, 2007) won the Grawemeyer award and Council of Foreign Relations Arthur Ross Award in 2008 (Silver medallion).\nHis second book\, A Single Roll of the Dice – Obama’s Diplomacy with Iran (Yale University Press\, 2012) was selected as The Best Book on The Middle East in 2012 by Foreign Affairs. His latest book – Losing an Enemy: Obama\, Iran and the Triumph of Diplomacy (Yale University Press\, 2017) – reveals the behind the scenes story to the historic nuclear deal with Iran. Dr. Parsi is the President of the largest Iranian-American grassroots organization in the US\, the National Iranian American Council and has taught at Johns Hopkins University and George Washington University. He currently teaches at the Edmund A. Walsh School of Foreign Service at Georgetown University in Washington DC.\nFree and ample parking on site.
URL:https://ctwac.org/event/killing-the-iran-deal-what-happens-now/
LOCATION:Mark Twain House and Museum\, 385 Farmington Avenue\, Hartford\, CT\, 06105\, US
ATTACH;FMTTYPE=image/jpeg:https://ctwac.org/wp-content/uploads/2018/05/46442987225-45344065-3.jpg
END:VEVENT
END:VCALENDAR