BEGIN:VCALENDAR
VERSION:2.0
PRODID:-//World Affairs Council of Connecticut - ECPv6.15.20//NONSGML v1.0//EN
CALSCALE:GREGORIAN
METHOD:PUBLISH
X-ORIGINAL-URL:https://ctwac.org
X-WR-CALDESC:Events for World Affairs Council of Connecticut
REFRESH-INTERVAL;VALUE=DURATION:PT1H
X-Robots-Tag:noindex
X-PUBLISHED-TTL:PT1H
BEGIN:VTIMEZONE
TZID:UTC
BEGIN:STANDARD
TZOFFSETFROM:+0000
TZOFFSETTO:+0000
TZNAME:UTC
DTSTART:20150101T000000
END:STANDARD
END:VTIMEZONE
BEGIN:VEVENT
DTSTART;TZID=UTC:20160407T083000
DTEND;TZID=UTC:20160407T153000
DTSTAMP:20260424T233045
CREATED:20151222T024048Z
LAST-MODIFIED:20151222T030751Z
UID:10000040-1460017800-1460043000@ctwac.org
SUMMARY:Global Challenges and Innovations Workshop Series: Climate Change
DESCRIPTION:CLICK HERE TO REGISTER\nJoin WACCT in a workshop series for educators focusing on Climate Change\, which remains top priorities in the international community and intersects with prominent social issues like poverty\, development\, and globalization. The aim of the Global Challenges and Innovations Workshop Series is to provide teachers with the materials and tools they need to foster an investigative classroom in accordance with the Connecticut Social Studies Frameworks. \nWorkshop: 8:30 AM to 3:30 PM $35 at-the-door ($30 online). This program will include: a keynote speaker\, collaborative sessions\, development of inquiry-based lessons\, integration of resources and evidence\, innovative solutions\, and taking informed action to address global health concerns and climate change issues. Lunch will be provided for participants of the workshop and there will be an evening program free of charge following the workshop. \nThis program is hosted by the World Affairs Council of America and sponsored by the Connecticut State Department of Education in collaboration with the Connecticut Council for the Social Studies and the Connecticut Geographical Alliance.
URL:https://ctwac.org/event/global-challenges-and-innovations-workshop-series-climate-change/
LOCATION:Harry Jack Gray Center\, University of Hartford\, 200 Bloomfield Ave\, West Hartford\, CT\, 06117\, United States
ORGANIZER;CN="World Affairs Council of Connecticut":MAILTO:info@ctwac.org
END:VEVENT
END:VCALENDAR