BEGIN:VCALENDAR
VERSION:2.0
PRODID:-//World Affairs Council of Connecticut - ECPv6.15.20//NONSGML v1.0//EN
CALSCALE:GREGORIAN
METHOD:PUBLISH
X-WR-CALNAME:World Affairs Council of Connecticut
X-ORIGINAL-URL:https://ctwac.org
X-WR-CALDESC:Events for World Affairs Council of Connecticut
REFRESH-INTERVAL;VALUE=DURATION:PT1H
X-Robots-Tag:noindex
X-PUBLISHED-TTL:PT1H
BEGIN:VTIMEZONE
TZID:America/Halifax
BEGIN:DAYLIGHT
TZOFFSETFROM:-0400
TZOFFSETTO:-0300
TZNAME:ADT
DTSTART:20150308T060000
END:DAYLIGHT
BEGIN:STANDARD
TZOFFSETFROM:-0300
TZOFFSETTO:-0400
TZNAME:AST
DTSTART:20151101T050000
END:STANDARD
BEGIN:DAYLIGHT
TZOFFSETFROM:-0400
TZOFFSETTO:-0300
TZNAME:ADT
DTSTART:20160313T060000
END:DAYLIGHT
BEGIN:STANDARD
TZOFFSETFROM:-0300
TZOFFSETTO:-0400
TZNAME:AST
DTSTART:20161106T050000
END:STANDARD
BEGIN:DAYLIGHT
TZOFFSETFROM:-0400
TZOFFSETTO:-0300
TZNAME:ADT
DTSTART:20170312T060000
END:DAYLIGHT
BEGIN:STANDARD
TZOFFSETFROM:-0300
TZOFFSETTO:-0400
TZNAME:AST
DTSTART:20171105T050000
END:STANDARD
END:VTIMEZONE
BEGIN:VEVENT
DTSTART;TZID=America/Halifax:20161103T183000
DTEND;TZID=America/Halifax:20161103T200000
DTSTAMP:20260424T213639
CREATED:20161024T190119Z
LAST-MODIFIED:20180914T190307Z
UID:10000080-1478197800-1478203200@ctwac.org
SUMMARY:Afghanistan: Between Hope and Fear
DESCRIPTION:New Date! November 3rd\nJoin us for an evening discussion with renowned photojournalist\, humanitarian and visual war correspondent\, Paula Bronstein\, as she discusses her new book: Afghanistan: Between Hope and Fear\, in conversation with the Hartford Courant’s Dan Haar.\nPaula Bronstein is a former  staff photographer for the Hartford Courant and sits alongside the most important female photojournalists as a multiple nominee and award winner of international contests including The Pulitzer\, Pictures of The Year International\, and The National Press Photographer’s Association. Her images have been published globally in a variety of newspapers and magazines.\nProgram to be followed by reception and opportunity for book sale and signing. \nHosted in partnership with
URL:https://ctwac.org/event/afghanistan-between-hope-and-fear/
LOCATION:Entrepreneurial Center\, University of Hartford\, 1265 Asylum Avenue\, Hartford\, CT\, 06105\, US
ATTACH;FMTTYPE=image/jpeg:https://ctwac.org/wp-content/uploads/2016/10/28565192259-25308063-1.jpg
END:VEVENT
END:VCALENDAR