BEGIN:VCALENDAR
VERSION:2.0
PRODID:-//World Affairs Council of Connecticut - ECPv6.15.20//NONSGML v1.0//EN
CALSCALE:GREGORIAN
METHOD:PUBLISH
X-WR-CALNAME:World Affairs Council of Connecticut
X-ORIGINAL-URL:https://ctwac.org
X-WR-CALDESC:Events for World Affairs Council of Connecticut
REFRESH-INTERVAL;VALUE=DURATION:PT1H
X-Robots-Tag:noindex
X-PUBLISHED-TTL:PT1H
BEGIN:VTIMEZONE
TZID:America/Halifax
BEGIN:DAYLIGHT
TZOFFSETFROM:-0400
TZOFFSETTO:-0300
TZNAME:ADT
DTSTART:20170312T060000
END:DAYLIGHT
BEGIN:STANDARD
TZOFFSETFROM:-0300
TZOFFSETTO:-0400
TZNAME:AST
DTSTART:20171105T050000
END:STANDARD
BEGIN:DAYLIGHT
TZOFFSETFROM:-0400
TZOFFSETTO:-0300
TZNAME:ADT
DTSTART:20180311T060000
END:DAYLIGHT
BEGIN:STANDARD
TZOFFSETFROM:-0300
TZOFFSETTO:-0400
TZNAME:AST
DTSTART:20181104T050000
END:STANDARD
BEGIN:DAYLIGHT
TZOFFSETFROM:-0400
TZOFFSETTO:-0300
TZNAME:ADT
DTSTART:20190310T060000
END:DAYLIGHT
BEGIN:STANDARD
TZOFFSETFROM:-0300
TZOFFSETTO:-0400
TZNAME:AST
DTSTART:20191103T050000
END:STANDARD
END:VTIMEZONE
BEGIN:VEVENT
DTSTART;TZID=America/Halifax:20180619T180000
DTEND;TZID=America/Halifax:20180619T200000
DTSTAMP:20260424T224740
CREATED:20180607T215434Z
LAST-MODIFIED:20180914T190607Z
UID:10000147-1529431200-1529438400@ctwac.org
SUMMARY:Summer Member Social
DESCRIPTION:Join us for a very special member social to celebrate a successful year and to send off for our Education Director\, Eve Pech\, in style. \nEnjoy food and drink at the Yard Goats Stadium as we celebrate Eve’s successful career and retirement. Featuring food\, drinks\, and great company.
URL:https://ctwac.org/event/summer-member-social/
LOCATION:Dunkin’ Donuts Park\, 1214 Main Street\, Hartford\, CT\, 06103\, US
ATTACH;FMTTYPE=image/jpeg:https://ctwac.org/wp-content/uploads/2018/06/46806459380-45789336-1.jpg
END:VEVENT
END:VCALENDAR