BEGIN:VCALENDAR
VERSION:2.0
PRODID:-//World Affairs Council of Connecticut - ECPv6.15.20//NONSGML v1.0//EN
CALSCALE:GREGORIAN
METHOD:PUBLISH
X-ORIGINAL-URL:https://ctwac.org
X-WR-CALDESC:Events for World Affairs Council of Connecticut
REFRESH-INTERVAL;VALUE=DURATION:PT1H
X-Robots-Tag:noindex
X-PUBLISHED-TTL:PT1H
BEGIN:VTIMEZONE
TZID:UTC
BEGIN:STANDARD
TZOFFSETFROM:+0000
TZOFFSETTO:+0000
TZNAME:UTC
DTSTART:20160101T000000
END:STANDARD
END:VTIMEZONE
BEGIN:VEVENT
DTSTART;TZID=UTC:20170502T140000
DTEND;TZID=UTC:20170502T160000
DTSTAMP:20260424T175646
CREATED:20170406T224150Z
LAST-MODIFIED:20170406T230316Z
UID:10000010-1493733600-1493740800@ctwac.org
SUMMARY:20th Annual Immigrant Day
DESCRIPTION:CTWAC and the Connecticut Immigrant and Refugee Coalition (CIRC) are celebrating the 20th annual Immigrant Day. Join us in honoring the extraordinary accomplishments of Connecticut immigrants on May 2nd at the Connecticut State Capitol. \n  \nFeaturing Keynote Speaker:  \nRafael Perez-Escamilla\, M.S.\, Ph.D.\, Doctor Honoris Causa \nRafael Perez-Escamilla is a tenured Professor of Epidemiology & Public Health and Director of the Global Health Concentration and the Office of Public Health Practice at the Yale School of Public Health. His maternal-child nutrition research program has led to improvements in breastfeeding\, childhood obesity\, childhood anemia\, and household food security policies and programs in Connecticut\, the U.S. and globally. He has been a senior scientific advisor to UNICEF\, the World Health Organization\, FAO\, the World Bank\, and many more. \n  \nRefreshments provided\, featuring global cuisine from local Connecticut restaurants. \nEvent is free and open to the public. Walk-ins welcome.
URL:https://ctwac.org/event/20th-annual-immigrant-day/
LOCATION:CT State Capitol\, Old Judiciary Room\, 210 Capitol Avenue\, Hartford\, CT
ATTACH;FMTTYPE=image/png:https://ctwac.org/wp-content/uploads/2017/04/immigrant-day-2.png
END:VEVENT
END:VCALENDAR