BEGIN:VCALENDAR
VERSION:2.0
PRODID:-//World Affairs Council of Connecticut - ECPv6.15.20//NONSGML v1.0//EN
CALSCALE:GREGORIAN
METHOD:PUBLISH
X-WR-CALNAME:World Affairs Council of Connecticut
X-ORIGINAL-URL:https://ctwac.org
X-WR-CALDESC:Events for World Affairs Council of Connecticut
REFRESH-INTERVAL;VALUE=DURATION:PT1H
X-Robots-Tag:noindex
X-PUBLISHED-TTL:PT1H
BEGIN:VTIMEZONE
TZID:UTC
BEGIN:STANDARD
TZOFFSETFROM:+0000
TZOFFSETTO:+0000
TZNAME:UTC
DTSTART:20170101T000000
END:STANDARD
END:VTIMEZONE
BEGIN:VEVENT
DTSTART;TZID=UTC:20180321T100000
DTEND;TZID=UTC:20180321T120000
DTSTAMP:20260424T215734
CREATED:20180312T222936Z
LAST-MODIFIED:20180312T234328Z
UID:10000089-1521626400-1521633600@ctwac.org
SUMMARY:CT Export Week: Meet the Market Germany\, Opportunities for Advanced Manufacturing
DESCRIPTION:Please join the U.S. Department of Commerce\, Connecticut District Export Council\, the German Consul General\, for “Meet the Market Germany\, Opportunities for Advanced Manufacturing.”\nThere will also be presentations by the German Trade Office (German Consul General Dr. Ralf Horlemann)\, U.S. Department of Commerce Germany\, and local German Companies. \nThis is a free event. Register here.  \n  \n \n 
URL:https://ctwac.org/event/ct-export-week-meet-market-germany-opportunities-advanced-manufacturing/
LOCATION:CohnReznick\, 350 Church Street\, Hartford\, CT\, 06103
ATTACH;FMTTYPE=image/png:https://ctwac.org/wp-content/uploads/2018/03/Meet-the-Market.png
END:VEVENT
END:VCALENDAR