BEGIN:VCALENDAR
VERSION:2.0
PRODID:-//World Affairs Council of Connecticut - ECPv6.15.20//NONSGML v1.0//EN
CALSCALE:GREGORIAN
METHOD:PUBLISH
X-WR-CALNAME:World Affairs Council of Connecticut
X-ORIGINAL-URL:https://ctwac.org
X-WR-CALDESC:Events for World Affairs Council of Connecticut
REFRESH-INTERVAL;VALUE=DURATION:PT1H
X-Robots-Tag:noindex
X-PUBLISHED-TTL:PT1H
BEGIN:VTIMEZONE
TZID:UTC
BEGIN:STANDARD
TZOFFSETFROM:+0000
TZOFFSETTO:+0000
TZNAME:UTC
DTSTART:20160101T000000
END:STANDARD
END:VTIMEZONE
BEGIN:VEVENT
DTSTART;TZID=UTC:20171115T080000
DTEND;TZID=UTC:20171117T140000
DTSTAMP:20260424T194035
CREATED:20170717T185548Z
LAST-MODIFIED:20170717T185548Z
UID:10000019-1510732800-1510927200@ctwac.org
SUMMARY:WACA 2017 National Conference: The Future of American Leadership
DESCRIPTION:For nearly three decades\, the WACA National Conference has brought World Affairs Council leaders and members to engage with top government officials\, diplomats\, business executives\, innovators\, journalists\, educators\, and students on the most pressing global issues and policy choices that impact our lives. \n​ \nBy attending this year’s WACA Conference in Washington\, DC\, you will benefit from: \n​ \n\n\nExpert opinions\, timely insights\, and audience dialogue about the United States’ role in the world \n\n\nAccess to extraordinary speakers\, thought leaders\, and ambassadors available for local Council programming \n\n\nBipartisan\, diverse\, and inclusive perspectives on the Administration’s “America First” philosophy \n\n\nVisits to think tanks and embassies; networking receptions and dinners \n\n\nProfessional development\, leadership training\, mentoring\, and peer-to-peer networking \n\n\n  \nFull event details including speakers\, agendas\, and hotel information can be found on the conference website.\n id=”comp-j4zumhjr_NewsPostsView_i6kgo8hd80_dup_i6kigfzs229_dup_i6qm3oyj323_dup_i6ruoykd73_dup_i721db34304_dup_i7ekcvww6_dup_i9ea8f64120_j4zumhkv_Array__0_0_0_positionInParent_default” class=” flex_vbox” data-reactid=”.0.$SITE_ROOT.$desktop_siteRoot.$PAGES_CONTAINER.$centeredContent.$inlineContent.$SITE_PAGES.$ngxoi_DESKTOP.$inlineContent.$comp-iqs9l13j.$inlineContent.$mediair4ol8hr4/=1$mediair4ol8hr4.$inlineContent.$comp-j4u2rvym.$inlineContent.$comp-j4zumhjr.$inlineContent.0.$child.$0.$inlineContent.$0″>\n id=”comp-j4zumhjr_NewsPostsView_i6kgo8hd80_dup_i6kigfzs229_dup_i6qm3oyj323_dup_i6ruoykd73_dup_i721db34304_dup_i7ekcvww6_dup_i9ea8f64120_j4zumhkv_Array__0_0_3_positionInParent_last” class=” flex_vbox” data-reactid=”.0.$SITE_ROOT.$desktop_siteRoot.$PAGES_CONTAINER.$centeredContent.$inlineContent.$SITE_PAGES.$ngxoi_DESKTOP.$inlineContent.$comp-iqs9l13j.$inlineContent.$mediair4ol8hr4/=1$mediair4ol8hr4.$inlineContent.$comp-j4u2rvym.$inlineContent.$comp-j4zumhjr.$inlineContent.0.$child.$0.$inlineContent.$3″>
URL:https://ctwac.org/event/waca-2017-national-conference-future-american-leadership/
LOCATION:Capital Hilton\, 1001 16th Street NW\, Washington\, DC\, 20036\, United States
ATTACH;FMTTYPE=image/jpeg:https://ctwac.org/wp-content/uploads/2017/07/America-Global-Leadership-WACA.jpg
END:VEVENT
END:VCALENDAR