BEGIN:VCALENDAR
VERSION:2.0
PRODID:-//World Affairs Council of Connecticut - ECPv6.15.20//NONSGML v1.0//EN
CALSCALE:GREGORIAN
METHOD:PUBLISH
X-ORIGINAL-URL:https://ctwac.org
X-WR-CALDESC:Events for World Affairs Council of Connecticut
REFRESH-INTERVAL;VALUE=DURATION:PT1H
X-Robots-Tag:noindex
X-PUBLISHED-TTL:PT1H
BEGIN:VTIMEZONE
TZID:UTC
BEGIN:STANDARD
TZOFFSETFROM:+0000
TZOFFSETTO:+0000
TZNAME:UTC
DTSTART:20170101T000000
END:STANDARD
END:VTIMEZONE
BEGIN:VEVENT
DTSTART;TZID=UTC:20180322T120000
DTEND;TZID=UTC:20180322T143000
DTSTAMP:20260424T213624
CREATED:20180312T224728Z
LAST-MODIFIED:20180312T234512Z
UID:10000155-1521720000-1521729000@ctwac.org
SUMMARY:CT Export Week: Meet the Market Peru\, Infrastructure\, Mining\, and Construction
DESCRIPTION:Please join the U.S. Department of Commerce\, Connecticut District Export Council\, Peru Consul General\, Peru Attaché\, and D.O.C Peru for\, “Meet the Market Peru\, Infrastructure\, Mining\, and Construction.” \nThis is a free event. Register Here. \nFor more information contact: Anne.Evans@trade.gov \n 
URL:https://ctwac.org/event/ct-export-week-meet-market-peru-infrastructure-mining-construction/
LOCATION:Shipman and Goodwin\, 1 Constitution Plz\, Hartford\, CT\, 06103
ATTACH;FMTTYPE=image/png:https://ctwac.org/wp-content/uploads/2018/03/Meet-the-Market.png
END:VEVENT
END:VCALENDAR