BEGIN:VCALENDAR
VERSION:2.0
PRODID:-//World Affairs Council of Connecticut - ECPv6.15.20//NONSGML v1.0//EN
CALSCALE:GREGORIAN
METHOD:PUBLISH
X-ORIGINAL-URL:https://ctwac.org
X-WR-CALDESC:Events for World Affairs Council of Connecticut
REFRESH-INTERVAL;VALUE=DURATION:PT1H
X-Robots-Tag:noindex
X-PUBLISHED-TTL:PT1H
BEGIN:VTIMEZONE
TZID:America/New_York
BEGIN:DAYLIGHT
TZOFFSETFROM:-0500
TZOFFSETTO:-0400
TZNAME:EDT
DTSTART:20240310T070000
END:DAYLIGHT
BEGIN:STANDARD
TZOFFSETFROM:-0400
TZOFFSETTO:-0500
TZNAME:EST
DTSTART:20241103T060000
END:STANDARD
BEGIN:DAYLIGHT
TZOFFSETFROM:-0500
TZOFFSETTO:-0400
TZNAME:EDT
DTSTART:20250309T070000
END:DAYLIGHT
BEGIN:STANDARD
TZOFFSETFROM:-0400
TZOFFSETTO:-0500
TZNAME:EST
DTSTART:20251102T060000
END:STANDARD
BEGIN:DAYLIGHT
TZOFFSETFROM:-0500
TZOFFSETTO:-0400
TZNAME:EDT
DTSTART:20260308T070000
END:DAYLIGHT
BEGIN:STANDARD
TZOFFSETFROM:-0400
TZOFFSETTO:-0500
TZNAME:EST
DTSTART:20261101T060000
END:STANDARD
END:VTIMEZONE
BEGIN:VEVENT
DTSTART;TZID=America/New_York:20251103T150000
DTEND;TZID=America/New_York:20251103T160000
DTSTAMP:20260424T172522
CREATED:20251029T165045Z
LAST-MODIFIED:20251029T170116Z
UID:10000394-1762182000-1762185600@ctwac.org
SUMMARY:Edible Economics: A Hungry Economist Explains the World
DESCRIPTION:Presented by the World Affairs Council of Alaska \nWhat do okra\, chocolate\, and economic theory have in common? Join the Alaska World Affairs Council for a thought-provoking conversation with renowned economist and bestselling author Ha-Joon Chang as he explores the surprising connections between food\, economics\, and global change. \nDrawing from his latest work\, Edible Economics\, Chang uses the stories behind everyday foods to illuminate big questions about globalization\, climate change\, inequality\, and the future of capitalism. Through humor\, insight\, and real-world examples\, he challenges conventional thinking and offers fresh ways to understand the forces shaping our world. \nThis is not your average economics talk — it’s a global feast for curious minds. \nWhen: Monday\, November 3rd | 3pm-4pm Eastern\nWhere: Zoom Webinar \n\n\nAbout the Speaker\nHa-Joon Chang is a Distinguished Research Professor of economics\, as well as Co-director of CSST (Centre for Sustainable Structural Transformation) and of DLD (Development Leadership Dialogue) at SOAS University of London. Previously he taught at the Faculty of Economics at the University of Cambridge (1990-2022). In addition to numerous journal articles and book chapters\, he has published 17 authored books (five co-authored) and 11 edited books (seven co-edited). His main books include The Political Economy of Industrial Policy (1994)\, Kicking Away the Ladder (2002)\, Bad Samaritans (2007)\, 23 Things They Don’t Tell You About Capitalism (2010)\, Economics: The User’s Guide (2014)\, and Edible Economics (2022). His writings have been translated and published in 46 languages and 48 countries. Worldwide\, his books have sold around 3 million copies. Chang has advised numerous international organizations\, national governments\, civil society organizations\, and corporations (both private-sector and public). He is currently a member of CDP (Committee for Development Policy)\, the highest advisory body of the United Nations on development issues\, as well as committees overseeing or advising other international organizations\, academic bodies\, and charitable organisations. Chang is the winner of the 2003 Gunnar Myrdal Prize and the 2005 Wassily Leontief Prize. \n\nAbout the Moderator\nLise Kristiansen\, born and raised in Anchorage\, Alaska\, serves as the Norwegian Honorary Consul for Alaska and Advisor to the Alaska World Affairs Council. From 2007 to 2023\, she was President and CEO of the Alaska World Affairs Council\, where she developed high-impact programs featuring more than 450 world leaders\, including diplomats\, NATO commanders\, policymakers\, public officials\, presidents\, and royalty. \nLise has been recognized for her leadership and civic contributions\, including being named one of Anchorage’s Top 40 Under 40\, inducted into the Anchorage Chamber of Commerce Athena Society\, and honored as Leader of the Year by the National World Affairs Councils of America — selected from 94 council leaders nationwide. \nA frequent speaker on Arctic and international affairs\, Lise has shared her expertise both nationally and internationally. In recognition of her contributions to Norway-Alaska relations\, she was awarded the Royal Norwegian Order of Merit\, Knight 1st Class\, by the King of Norway. \nLise has a passion for sports and music\, including playing the piano\, and has participated in 6 Ironman Triathlons including the Ironman World Championship in Kona\, Hawaii.  During her free time\, you can often find her on a nearby pickleball court. \n\nHosted By\n \n\n 
URL:https://ctwac.org/event/edible-economics-a-hungry-economist-explains-the-world/
LOCATION:Zoom Webinar
ATTACH;FMTTYPE=image/jpeg:https://ctwac.org/wp-content/uploads/2025/10/Ha-Joon-Chang-1-e1761757006826.jpeg
END:VEVENT
END:VCALENDAR