BEGIN:VCALENDAR
VERSION:2.0
PRODID:-//World Affairs Council of Connecticut - ECPv6.15.20//NONSGML v1.0//EN
CALSCALE:GREGORIAN
METHOD:PUBLISH
X-ORIGINAL-URL:https://ctwac.org
X-WR-CALDESC:Events for World Affairs Council of Connecticut
REFRESH-INTERVAL;VALUE=DURATION:PT1H
X-Robots-Tag:noindex
X-PUBLISHED-TTL:PT1H
BEGIN:VTIMEZONE
TZID:America/New_York
BEGIN:DAYLIGHT
TZOFFSETFROM:-0500
TZOFFSETTO:-0400
TZNAME:EDT
DTSTART:20230312T070000
END:DAYLIGHT
BEGIN:STANDARD
TZOFFSETFROM:-0400
TZOFFSETTO:-0500
TZNAME:EST
DTSTART:20231105T060000
END:STANDARD
BEGIN:DAYLIGHT
TZOFFSETFROM:-0500
TZOFFSETTO:-0400
TZNAME:EDT
DTSTART:20240310T070000
END:DAYLIGHT
BEGIN:STANDARD
TZOFFSETFROM:-0400
TZOFFSETTO:-0500
TZNAME:EST
DTSTART:20241103T060000
END:STANDARD
BEGIN:DAYLIGHT
TZOFFSETFROM:-0500
TZOFFSETTO:-0400
TZNAME:EDT
DTSTART:20250309T070000
END:DAYLIGHT
BEGIN:STANDARD
TZOFFSETFROM:-0400
TZOFFSETTO:-0500
TZNAME:EST
DTSTART:20251102T060000
END:STANDARD
END:VTIMEZONE
BEGIN:VEVENT
DTSTART;TZID=America/New_York:20240308T114500
DTEND;TZID=America/New_York:20240308T124500
DTSTAMP:20260424T205136
CREATED:20240220T214817Z
LAST-MODIFIED:20240308T141338Z
UID:10000323-1709898300-1709901900@ctwac.org
SUMMARY:Global Changemakers with H.E. Oksana Markarova | IWD 2024
DESCRIPTION:Ambassador Oksana Markarova joins us again this International Women’s Day to share with us how the war in Ukraine is impacting its people and human rights globally. In conversation with CTWAC CEO Megan Torrey. \nThis important event represents an ongoing collaboration between the Women’s Leadership Center at the University of Saint Joseph and the World Affairs Council of Connecticut. \n\nThe Details:\nWhen: Friday\, March 8th | 11:45 AM \nWhere: Virtual | Zoom Webinar \nTickets: Free | RSVP for zoom link required \n\nAbout the Ambassador:\nOksana Markarova | Ambassador Extraordinary and Plenipotentiary of Ukraine to the United States \nOksana Markarova was appointed the Ukraine’s Ambassador to the USA and arrived in DC on Apr 20\, 2021. She served in Ukraine’s Ministry of Finance in 2015-2020 as First deputy Minister and Government commissioner on investments and then since 2018 as a Minister of Finance. During her time at the Ministry she was a co-author of Ukraine’s macroeconomic revival program\, has conducted unprecedented fiscal consolidation leading to deficit to GDP of 2% and debt to GDP reduction to below 50%\, introduced midterm budgeting\, gender oriented budgeting as well as negotiated\, structured and coordinated successfully two IMF programs and other IFI cooperation programs. During her tenure she and her team has also created UkraineInvest government promotion agency\, Ukrainian Startup fund and an eData ecosystem of government public finance portals including spending.gov.ua\, openbudget.gov.ua and analytical instrument BOOST\, which opened the majority of the public finance data to the public and increased Ukraine in all major international data transparency ratings. \nPrior to career in public service Mrs. Markarova spent 17 years working in private equity and financial advisory having leadership roles in ITT investment group\, Western NIS Enterprise Fund\, Chemonics and and World bank\, as well as founded Archidata startup electronic archive company in between service positions in 2020. \nOksana Markarova serves at the Boards of UkraineHouse DC foundation in Washington DC\, Kyiv-Mohyla Academy\, Ukrainian Development Foundation and supports Ukrainian Catholic University and Ukrainian Press Museum-Archive. \nShe holds BS and MS degrees in Environmental Science from Kyiv-Mohyla Academy in Ukraine and MPA in public finance from Indiana University with academic excellency and best international student awards. \nBy the Decree of the President of Ukraine No. 370/2023\, dated July 5\, 2023\, Oksana Markarova was appointed as Ambassador of Ukraine with concurrent accreditation to Antigua and Barbuda. \nMarkarova is married with four children and grandson. \n\nHosted by\n \n\nStay Globally Involved\nAs a member of the World Affairs Council of Connecticut\, you can get exclusive access to events and travel opportunities\, build relationships with local leaders and global dignitaries\, and join our community of global citizens. Let us bring the world to you. \nRenew your membership or become a member on our website. Join now to access exclusive events and discounted pricing.
URL:https://ctwac.org/event/global-changemakers-with-h-e-oksana-markarova-iwd-2024/
LOCATION:Zoom Webinar
ATTACH;FMTTYPE=image/png:https://ctwac.org/wp-content/uploads/2024/02/IWD-2024-Ambassador-Markarova-Website.png
END:VEVENT
END:VCALENDAR