BEGIN:VCALENDAR
VERSION:2.0
PRODID:-//World Affairs Council of Connecticut - ECPv6.15.20//NONSGML v1.0//EN
CALSCALE:GREGORIAN
METHOD:PUBLISH
X-WR-CALNAME:World Affairs Council of Connecticut
X-ORIGINAL-URL:https://ctwac.org
X-WR-CALDESC:Events for World Affairs Council of Connecticut
REFRESH-INTERVAL;VALUE=DURATION:PT1H
X-Robots-Tag:noindex
X-PUBLISHED-TTL:PT1H
BEGIN:VTIMEZONE
TZID:America/New_York
BEGIN:DAYLIGHT
TZOFFSETFROM:-0500
TZOFFSETTO:-0400
TZNAME:EDT
DTSTART:20250309T070000
END:DAYLIGHT
BEGIN:STANDARD
TZOFFSETFROM:-0400
TZOFFSETTO:-0500
TZNAME:EST
DTSTART:20251102T060000
END:STANDARD
BEGIN:DAYLIGHT
TZOFFSETFROM:-0500
TZOFFSETTO:-0400
TZNAME:EDT
DTSTART:20260308T070000
END:DAYLIGHT
BEGIN:STANDARD
TZOFFSETFROM:-0400
TZOFFSETTO:-0500
TZNAME:EST
DTSTART:20261101T060000
END:STANDARD
BEGIN:DAYLIGHT
TZOFFSETFROM:-0500
TZOFFSETTO:-0400
TZNAME:EDT
DTSTART:20270314T070000
END:DAYLIGHT
BEGIN:STANDARD
TZOFFSETFROM:-0400
TZOFFSETTO:-0500
TZNAME:EST
DTSTART:20271107T060000
END:STANDARD
END:VTIMEZONE
BEGIN:VEVENT
DTSTART;TZID=America/New_York:20260520T181500
DTEND;TZID=America/New_York:20260520T191500
DTSTAMP:20260424T152137
CREATED:20260420T194449Z
LAST-MODIFIED:20260420T201442Z
UID:10000422-1779300900-1779304500@ctwac.org
SUMMARY:The Global AI Race with Sebastian Mallaby | WorldNow
DESCRIPTION:Artificial intelligence is reshaping the global balance of power. Nations are racing for advantage\, companies are competing for dominance\, and the quest for superintelligence is moving faster than ever. \nJoin us on WorldNow with Jim Falk as we sit down with Sebastian Mallaby\, author of The Infinity Machine: Demis Hassabis\, DeepMind\, & the Quest for Superintelligence and Senior Fellow for International Economics at the Council on Foreign Relations. \nFrom the rise of DeepMind and Silicon Valley to the intensifying global race for AI dominance\, we’ll explore what this technological competition could mean for security\, power\, and the future of the world economy. \nThe details:\nWhen: Wednesday\, May 20th | 6:15pm-7:15pm Eastern\nWhere: Zoom Webinar\nTickets: No charge\, RSVP Required \nReserve your spot today \n\n\n \n\nMeet the Guest\n \nSebastian Mallaby is the author of several books including the bestselling More Money Than God. A former Financial Times contributing editor and two-time Pulitzer Prize finalist\, Mallaby is the Paul A. Volcker Senior Fellow for International Economics at the Council on Foreign Relations. \nHe is the author of the newly published The Infinity Machine: Demis Hassabis\, DeepMind\, and the Quest for Superintelligence.  \n  \n\nMeet the Host\n\nJim Falk is President Emeritus of the World Affairs Council of Dallas/Fort Worth. Now residing in Santa Fe\, NM\, he is Vice Chairman of the Board of Global Santa Fe. In addition to hosting WorldNow with Jim Falk\, Jim produces and hosts The Forum\, a weekly talk show on KSFR-FM\, Santa Fe Public Radio. He is a member of the Council on Foreign Relations. \n  \n  \n\nAbout the Book\nThe Infinity Machine: Demis Hassabis\, DeepMind\, and the Quest for Superintelligence by Sebastian Mallaby \nFrom one of our leading chroniclers of the intersection of innovation and capitalism\, a landmark reckoning—based on unprecedented access—with one of the world’s most brilliant and driven tech visionaries\, and his game-changing company. \n“A fascinating portrait of Demis Hassabis\, the influential thinker heading DeepMind\, Google’s AI research laboratory…Mallaby captures Hassabis’ curiosity and relentless drive\, weaving a vivid tapestry of collaborators\, competitors\, and engineers of modern AI systems…A tantalizing glimpse inside the pursuit of machine superintelligence.”--Kirkus Reviews\, starred review \nGet yourself a copy of The Infinity Machine on Bookshop.org and support your local bookstore \n\nPresented by\nWorldNow with Jim Falk is hosted by the World Affairs Council of Connecticut with the World Affairs Council of Dallas/Fort Worth and the World Affairs Councils of America. Presented in partnership with Councils nationwide: \n \n\nMission Partners\n\nSupport global engagement in Connecticut by contacting CEO Megan Torrey about sponsorship opportunities. Learn more on our website about available opportunities. \n\nStay Globally Involved\nRenew your membership or become a member on our website. Council members gain exclusive\, lower-cost access to global events and travel opportunities\, while engaging with top international leaders. Join our community of global citizens and let us bring the world to you. \n\n\n\nThe World Affairs Council of Connecticut provides a platform for open dialogue and the exchange of ideas on global issues. The views expressed by speakers and contributors to this organization’s public programs—in person\, online\, and through affiliated social media sites— are solely their own and do not necessarily represent the official policies or positions of CTWAC\, its individual staff\, board members\, members\, or sponsors. As a nonpartisan and nonpolitical organization\, CTWAC’s purpose is to foster informed discussion and greater understanding of the world\, without endorsing any particular viewpoint.
URL:https://ctwac.org/event/the-global-ai-race-worldnow/
LOCATION:Zoom Webinar
ATTACH;FMTTYPE=image/png:https://ctwac.org/wp-content/uploads/2026/04/Save-the-Date-Sebastian-Mallaby-Global-AI-Race.png
END:VEVENT
END:VCALENDAR