BEGIN:VCALENDAR
VERSION:2.0
PRODID:-//World Affairs Council of Connecticut - ECPv6.15.20//NONSGML v1.0//EN
CALSCALE:GREGORIAN
METHOD:PUBLISH
X-WR-CALNAME:World Affairs Council of Connecticut
X-ORIGINAL-URL:https://ctwac.org
X-WR-CALDESC:Events for World Affairs Council of Connecticut
REFRESH-INTERVAL;VALUE=DURATION:PT1H
X-Robots-Tag:noindex
X-PUBLISHED-TTL:PT1H
BEGIN:VTIMEZONE
TZID:America/New_York
BEGIN:DAYLIGHT
TZOFFSETFROM:-0500
TZOFFSETTO:-0400
TZNAME:EDT
DTSTART:20220313T070000
END:DAYLIGHT
BEGIN:STANDARD
TZOFFSETFROM:-0400
TZOFFSETTO:-0500
TZNAME:EST
DTSTART:20221106T060000
END:STANDARD
BEGIN:DAYLIGHT
TZOFFSETFROM:-0500
TZOFFSETTO:-0400
TZNAME:EDT
DTSTART:20230312T070000
END:DAYLIGHT
BEGIN:STANDARD
TZOFFSETFROM:-0400
TZOFFSETTO:-0500
TZNAME:EST
DTSTART:20231105T060000
END:STANDARD
BEGIN:DAYLIGHT
TZOFFSETFROM:-0500
TZOFFSETTO:-0400
TZNAME:EDT
DTSTART:20240310T070000
END:DAYLIGHT
BEGIN:STANDARD
TZOFFSETFROM:-0400
TZOFFSETTO:-0500
TZNAME:EST
DTSTART:20241103T060000
END:STANDARD
BEGIN:DAYLIGHT
TZOFFSETFROM:-0500
TZOFFSETTO:-0400
TZNAME:EDT
DTSTART:20250309T070000
END:DAYLIGHT
BEGIN:STANDARD
TZOFFSETFROM:-0400
TZOFFSETTO:-0500
TZNAME:EST
DTSTART:20251102T060000
END:STANDARD
BEGIN:DAYLIGHT
TZOFFSETFROM:-0500
TZOFFSETTO:-0400
TZNAME:EDT
DTSTART:20260308T070000
END:DAYLIGHT
BEGIN:STANDARD
TZOFFSETFROM:-0400
TZOFFSETTO:-0500
TZNAME:EST
DTSTART:20261101T060000
END:STANDARD
END:VTIMEZONE
BEGIN:VEVENT
DTSTART;VALUE=DATE:20251205
DTEND;VALUE=DATE:20251207
DTSTAMP:20260424T174816
CREATED:20250702T170905Z
LAST-MODIFIED:20250702T172554Z
UID:10000380-1764892800-1765065599@ctwac.org
SUMMARY:Model United Nations 2025
DESCRIPTION:The CTWAC Model United Nations brings together over 1\,100 Connecticut high school students to engage in debate and diplomacy\, preparing them to become our future leaders. \nThe Council’s MUN program is exclusively student-run\, offering students opportunities to take leadership positions and negotiate with peers. Students experience the inner workings of diplomacy as they tackle global controversies\, navigate crisis scenarios\, debate solutions\, and draft resolutions. Delegates also have the opportunity to travel to the UN Headquarters in New York\, meet diplomats from the countries they’ll represent\, and discuss timely issues with the policymakers currently working to solve them. \nThe World Affairs Council of Connecticut’s Model UN began in 1952 at Hartford Public High School and is now one of the largest and longest continuously running Model UN programs in the world. In its 73 years\, the program has impacted over 55\,000 students across Connecticut. \n\nLearn more about the CTWAC Model UN program and how to get involved here. \n\n\nParticipating Connecticut Schools\n \n\nSponsors\n \n \n  \nRoz & Alan Spier \n\nModel UN’s impact on the students: \n“I learned new skills every year I participated\, and though this was my last year with MUN\, the skills I’m walking away with are ones that I will carry with me forever.” \n“Through MUN\, I was able to craft my own opinions on our world’s pressing issues and work to create a resolution to solve them.” \n“Model UN gave me a place to learn more about the world\, while also giving me an outlet to better my public speaking skills and my research skills.” \n\nAbout the World Affairs Council of Connecticut \nThe World Affairs Council of Connecticut (CTWAC) is a non-profit\, non-partisan organization founded in 1924. Through community engagement and collaboration\, the World Affairs Council of Connecticut creates experiences that explore critical global issues and promote a greater understanding of the world. Learn more about what we do here and how you can get involved. You can also connect with us on Facebook\, Instagram\, LinkedIn and YouTube.
URL:https://ctwac.org/event/model-united-nations-2025/
LOCATION:University of Hartford\, 200 Bloomfield Ave\, West Hartford\, CT\, 06117\, US
ATTACH;FMTTYPE=image/png:https://ctwac.org/wp-content/uploads/2025/07/MUN-2025-website.png
END:VEVENT
BEGIN:VEVENT
DTSTART;VALUE=DATE:20241206
DTEND;VALUE=DATE:20241208
DTSTAMP:20260424T174816
CREATED:20240509T200846Z
LAST-MODIFIED:20241113T211629Z
UID:10000332-1733443200-1733615999@ctwac.org
SUMMARY:Model United Nations 2024
DESCRIPTION:The CTWAC Model United Nations brings together over 1\,000 Connecticut high school students to engage in debate and diplomacy\, preparing them to become our future leaders. \nThe Council’s MUN program is exclusively student-run\, offering students opportunities to take leadership positions and negotiate with peers. Students experience the inner workings of international policymaking as they tackle global issues and controversies\, navigate crisis scenarios\, debate solutions\, and draft resolutions. Delegates also have the opportunity to travel to New York to tour the United Nations Headquarters\, meet diplomats from the countries they’ll represent\, and discuss timely global issues with the policymakers currently working to solve them. \nThe World Affairs Council of Connecticut’s Model UN began in 1952 at Hartford Public High School and is now one of the largest and longest continuously running Model UN programs in the world. In its 72 years\, the program has impacted over 54\,000 students across Connecticut. \n\nLearn more about the CTWAC Model UN program and how to get involved here. \n\n\nSponsors\n\n\n\n \n\nModel UN’s impact on the students: \n“I learned new skills every year I participated\, and though this was my last year with MUN\, the skills I’m walking away with are ones that I will carry with me forever.” \n“Through MUN\, I was able to craft my own opinions on our world’s pressing issues and work to create a resolution to solve them.” \n“Model UN gave me a place to learn more about the world\, while also giving me an outlet to better my public speaking skills and my research skills.” \n\nAbout the World Affairs Council of Connecticut \nThe World Affairs Council of Connecticut (CTWAC) is a non-profit\, non-partisan organization founded in 1924. Through community engagement and collaboration\, the World Affairs Council of Connecticut creates experiences that explore critical global issues and promote a greater understanding of the world. Learn more about what we do here and how you can get involved. You can also connect with us on Facebook\, Instagram\, LinkedIn and YouTube.
URL:https://ctwac.org/event/model-united-nations-2024/
LOCATION:University of Hartford\, 200 Bloomfield Ave\, West Hartford\, CT\, 06117\, US
ATTACH;FMTTYPE=image/png:https://ctwac.org/wp-content/uploads/2024/05/MUN-2024.png
END:VEVENT
BEGIN:VEVENT
DTSTART;VALUE=DATE:20231201
DTEND;VALUE=DATE:20231203
DTSTAMP:20260424T174816
CREATED:20230615T172044Z
LAST-MODIFIED:20231106T161100Z
UID:10000225-1701388800-1701561599@ctwac.org
SUMMARY:Model United Nations 2023
DESCRIPTION:CTWAC Model United Nations brings together over 1\,000 students from across Connecticut to engage with each other through debate and diplomacy\, preparing them to become future global leaders. \nThe Council’s MUN program is exclusively student-run\, offering students opportunities to take leadership positions and negotiate with peers. At #CTWACMUN\, students experience the inner workings of international policymaking as they tackle global issues and controversies\, navigate crisis scenarios\, debate solutions\, and draft resolutions. \nThrough the MUN program\, students have the opportunity to travel to New York to tour the United Nations Headquarters\, meet diplomats from the countries they are representing\, and discuss timely global issues with the policymakers who are currently working to solve them. \n\nLearn more about the World Affairs Council of Connecticut’s Model UN program and how to get involved here. \nSupport the 2023 Model United Nations
URL:https://ctwac.org/event/model-united-nations-2023/
LOCATION:University of Hartford\, 200 Bloomfield Ave\, West Hartford\, CT\, 06117\, US
ATTACH;FMTTYPE=image/png:https://ctwac.org/wp-content/uploads/2023/06/Model-UN-2023.png
END:VEVENT
END:VCALENDAR