BEGIN:VCALENDAR
VERSION:2.0
PRODID:-//World Affairs Council of Connecticut - ECPv6.15.20//NONSGML v1.0//EN
CALSCALE:GREGORIAN
METHOD:PUBLISH
X-WR-CALNAME:World Affairs Council of Connecticut
X-ORIGINAL-URL:https://ctwac.org
X-WR-CALDESC:Events for World Affairs Council of Connecticut
REFRESH-INTERVAL;VALUE=DURATION:PT1H
X-Robots-Tag:noindex
X-PUBLISHED-TTL:PT1H
BEGIN:VTIMEZONE
TZID:America/New_York
BEGIN:DAYLIGHT
TZOFFSETFROM:-0500
TZOFFSETTO:-0400
TZNAME:EDT
DTSTART:20230312T070000
END:DAYLIGHT
BEGIN:STANDARD
TZOFFSETFROM:-0400
TZOFFSETTO:-0500
TZNAME:EST
DTSTART:20231105T060000
END:STANDARD
BEGIN:DAYLIGHT
TZOFFSETFROM:-0500
TZOFFSETTO:-0400
TZNAME:EDT
DTSTART:20240310T070000
END:DAYLIGHT
BEGIN:STANDARD
TZOFFSETFROM:-0400
TZOFFSETTO:-0500
TZNAME:EST
DTSTART:20241103T060000
END:STANDARD
BEGIN:DAYLIGHT
TZOFFSETFROM:-0500
TZOFFSETTO:-0400
TZNAME:EDT
DTSTART:20250309T070000
END:DAYLIGHT
BEGIN:STANDARD
TZOFFSETFROM:-0400
TZOFFSETTO:-0500
TZNAME:EST
DTSTART:20251102T060000
END:STANDARD
END:VTIMEZONE
BEGIN:VEVENT
DTSTART;TZID=America/New_York:20240212T190000
DTEND;TZID=America/New_York:20240212T200000
DTSTAMP:20260424T205045
CREATED:20231213T161234Z
LAST-MODIFIED:20240117T154244Z
UID:10000249-1707764400-1707768000@ctwac.org
SUMMARY:Our Ancient Faith with Allen Guelzo: Lincoln\, Democracy\, & the American Experiment
DESCRIPTION:On Lincoln’s birthday\, award-winning historian and author Allen Guelzo will join us in conversation on the American President whose firm and powerful beliefs in democracy guided him through one of the most tumultuous periods in American history – and how his beliefs continue to shape our country. In conversation with Jim Falk. \nHosted by the World Affairs Council of Connecticut in partnership with Global Santa Fe\, World Affairs Council of Dallas/Fort Worth\, Phoenix Committee on Foreign Relations\, World Affairs Council of Albuquerque\, World Affairs Council of Greater Hampton Roads\, the Center for Presidential History at SMU\, and the Oregon Historical Society. \nThe details:\nWhen: Monday\, February 12 | 7:00PM ET \nWhere: Zoom Webinar \nTickets: Free | Register here \n\nAbout the Author\nAllen C. Guelzo is Senior Research Scholar at the Council of the Humanities at Princeton University. He is the author of several books about the Civil War and early-nineteenth-century American history. He is a recipient of the Guggenheim-Lehrman Prize for Military History and has been awarded the Gilder Lehrman Lincoln Prize three times. He lives in Pennsylvania. \nPhoto: Courtesy Sameer Khan\, Fotobuddy \n\nAbout the Moderator\nJim Falk is President Emeritus of the World Affairs Council of Dallas/Fort Worth. Now residing in Santa Fe\, New Mexico he is member of the Board of Global Santa Fe where he chairs the program committee. Jim co-hosts Perspectives Matter\, a McCuistion Program\, that airs weekly on KERA-Dallas (PBS). He is a member of the Council on Foreign Relations. \n\nAbout the Book\nOur Ancient Faith: Lincoln\, Democracy\, and the American Experiment \nAn intimate study of Abraham Lincoln’s powerful vision of democracy\, which guided him through the Civil War and is still relevant today—by a best-selling historian and three-time winner of the Lincoln Prize \n“It is altogether fitting and proper that\, with this meditation on democracy and its most subtle defender\, Allen Guelzo again demonstrates that he is today’s most profound interpreter of this nation’s history and significance.” —George F. Will \nAbraham Lincoln grappled with the greatest crisis of democracy that has ever confronted the United States. While many books have been written about his temperament\, judgment\, and steady hand in guiding the country through the Civil War\, we know less about Lincoln’s penetrating ideas and beliefs about democracy\, which were every bit as important as his character in sustaining him through the crisis. \nAllen C. Guelzo\, one of America’s foremost experts on Lincoln\, captures the president’s firmly held belief that democracy was the greatest political achievement in human history. He shows how Lincoln’s deep commitment to the balance between majority and minority rule enabled him to stand firm against secession while also committing the Union to reconciliation rather than recrimination in the aftermath of war. In bringing his subject to life as a rigorous and visionary thinker\, Guelzo assesses Lincoln’s actions on civil liberties and his views on race\, and explains why his vision for the role of government would have made him a pivotal president even if there had been no Civil War. Our Ancient Faith gives us a deeper understanding of this endlessly fascinating man and shows how his ideas are still sharp and relevant more than 150 years later. \nPurchase Our Ancient Faith here. \n\nHosts & Partners\n \n  \n  \n  \n\n  \n\nStay Globally Involved\nAs a member of the World Affairs Council of Connecticut\, you can get exclusive access to events and travel opportunities\, build relationships with local leaders and global dignitaries\, and join our community of global citizens. Let us bring the world to you. \nRenew your membership or become a member on our website. Join now to access exclusive events and discounted pricing. \nIf you want to check your membership status\, email Abby at anoyes@ctwac.org or log in on the membership site.
URL:https://ctwac.org/event/our-ancient-faith-with-allen-guelzo/
LOCATION:Zoom Webinar
ATTACH;FMTTYPE=image/png:https://ctwac.org/wp-content/uploads/2023/12/Lincoln-Website-1.png
END:VEVENT
END:VCALENDAR