BEGIN:VCALENDAR
VERSION:2.0
PRODID:-//World Affairs Council of Connecticut - ECPv6.15.20//NONSGML v1.0//EN
CALSCALE:GREGORIAN
METHOD:PUBLISH
X-WR-CALNAME:World Affairs Council of Connecticut
X-ORIGINAL-URL:https://ctwac.org
X-WR-CALDESC:Events for World Affairs Council of Connecticut
REFRESH-INTERVAL;VALUE=DURATION:PT1H
X-Robots-Tag:noindex
X-PUBLISHED-TTL:PT1H
BEGIN:VTIMEZONE
TZID:America/New_York
BEGIN:DAYLIGHT
TZOFFSETFROM:-0500
TZOFFSETTO:-0400
TZNAME:EDT
DTSTART:20250309T070000
END:DAYLIGHT
BEGIN:STANDARD
TZOFFSETFROM:-0400
TZOFFSETTO:-0500
TZNAME:EST
DTSTART:20251102T060000
END:STANDARD
BEGIN:DAYLIGHT
TZOFFSETFROM:-0500
TZOFFSETTO:-0400
TZNAME:EDT
DTSTART:20260308T070000
END:DAYLIGHT
BEGIN:STANDARD
TZOFFSETFROM:-0400
TZOFFSETTO:-0500
TZNAME:EST
DTSTART:20261101T060000
END:STANDARD
BEGIN:DAYLIGHT
TZOFFSETFROM:-0500
TZOFFSETTO:-0400
TZNAME:EDT
DTSTART:20270314T070000
END:DAYLIGHT
BEGIN:STANDARD
TZOFFSETFROM:-0400
TZOFFSETTO:-0500
TZNAME:EST
DTSTART:20271107T060000
END:STANDARD
END:VTIMEZONE
BEGIN:VEVENT
DTSTART;TZID=America/New_York:20260219T173000
DTEND;TZID=America/New_York:20260219T190000
DTSTAMP:20260424T184606
CREATED:20260205T203706Z
LAST-MODIFIED:20260211T210240Z
UID:10000409-1771522200-1771527600@ctwac.org
SUMMARY:Immigration\, Enforcement\, & Human Rights with Kica Matos
DESCRIPTION:Join us for a candid conversation with Kica Matos\, President of the National Immigration Law Center\, on the realities of U.S. immigration policy today – and how these decisions resonate far beyond our borders. \nFrom ICE enforcement practices and detention policy to ongoing legal challenges and federal reform efforts\, this timely program will examine how immigration policy is being shaped – and contested – in real time\, and what it means for communities\, the rule of law\, and our nation’s future. \nA partnership between the World Affairs Council of Connecticut and Hartford Public Library \nDetails\nWhen: Thursday\, February 19 | 6:00pm – 7:00pm\nDoors open 5:30pm\nWhere: Hartford Public Library’s Downtown Library\nCenter for Contemporary Culture\n500 Main Street\nTickets: No charge | RSVP Required \nReserve your spot today \n\n\n \nPlease consider making a small contribution to the World Affairs Council when registering in support of this program. \nIf you require special accommodations to take part in this program\, please call (860)874-2434 at least two weeks in advance. \n\nWith Special Guest\n \nKica Matos is the president of the National Immigration Law Center (NILC) and the Immigrant Justice Fund (IJF). She is also a Distinguished Practitioner at Yale University’s Brady Johnson Program in Grand Strategy. Kica joined NILC and IJF as executive vice president of programs and strategy in January 2023. Prior to this\, Kica was vice president of initiatives at the Vera Institute of Justice. She also served as the director of immigrant rights and racial justice at the Center for Community Change. She has extensive experience as an advocate\, community organizer\, and lawyer. \nKica has also headed up the U.S. Reconciliation and Human Rights Program at Atlantic Philanthropies. Before joining Atlantic Philanthropies\, she was deputy mayor in New Haven\, overseeing community programs and launching new initiatives\, including prisoner re-entry and youth and immigrant integration. Kica was previously the executive director of JUNTA\, New Haven’s oldest Latino advocacy organization. She also worked as an assistant federal defender for death-sentenced inmates and with the NAACP Legal Defense and Educational Fund and Amnesty International on the death penalty and criminal justice issues. \nShe has a B.A. from Victoria University of Wellington\, New Zealand\, an M.A. from the New School\, and a J.D. from Cornell Law School. She was awarded honorary doctorate degrees from Albertus Magnus College in 2017 and the University of New Haven in 2019. She is a recipient of the John F. Kennedy New Frontier Award\, and in 2021\, she was inducted into the CT Women’s Hall of Fame. \n\nIn partnership with\n \n\nJoin the Community\nWith continuous breaking global news\, Council membership allows you to understand it all. Members gain lower-cost and exclusive access to discussions with foreign and local leaders\, events with experts and opposing views\, and – most essentially – a community of engaged people like yourself. \nBecome a member or renew today. \n\nMission Partners\n\nSupport global engagement in Connecticut by contacting CEO Megan Torrey about sponsorship opportunities. Learn more on our website about available opportunities. \n\n\n\nThe World Affairs Council of Connecticut provides a platform for open dialogue and the exchange of ideas on global issues. The views expressed by speakers and contributors to this organization’s public programs—in person\, online\, and through affiliated social media sites— are solely their own and do not necessarily represent the official policies or positions of CTWAC\, its individual staff\, board members\, members\, or sponsors. As a nonpartisan and nonpolitical organization\, CTWAC’s purpose is to foster informed discussion and greater understanding of the world\, without endorsing any particular viewpoint.
URL:https://ctwac.org/event/immigration-enforcement-human-rights-with-kica-matos/
LOCATION:Hartford Public Library\, 500 Main St\,  Hartford\, CT
ATTACH;FMTTYPE=image/png:https://ctwac.org/wp-content/uploads/2026/02/Immigration-and-Human-Rights-with-Kica-Matos-Event-Graphic-v2.png
END:VEVENT
END:VCALENDAR