BEGIN:VCALENDAR
VERSION:2.0
PRODID:-//World Affairs Council of Connecticut - ECPv6.15.20//NONSGML v1.0//EN
CALSCALE:GREGORIAN
METHOD:PUBLISH
X-WR-CALNAME:World Affairs Council of Connecticut
X-ORIGINAL-URL:https://ctwac.org
X-WR-CALDESC:Events for World Affairs Council of Connecticut
REFRESH-INTERVAL;VALUE=DURATION:PT1H
X-Robots-Tag:noindex
X-PUBLISHED-TTL:PT1H
BEGIN:VTIMEZONE
TZID:America/New_York
BEGIN:DAYLIGHT
TZOFFSETFROM:-0500
TZOFFSETTO:-0400
TZNAME:EDT
DTSTART:20220313T070000
END:DAYLIGHT
BEGIN:STANDARD
TZOFFSETFROM:-0400
TZOFFSETTO:-0500
TZNAME:EST
DTSTART:20221106T060000
END:STANDARD
BEGIN:DAYLIGHT
TZOFFSETFROM:-0500
TZOFFSETTO:-0400
TZNAME:EDT
DTSTART:20230312T070000
END:DAYLIGHT
BEGIN:STANDARD
TZOFFSETFROM:-0400
TZOFFSETTO:-0500
TZNAME:EST
DTSTART:20231105T060000
END:STANDARD
BEGIN:DAYLIGHT
TZOFFSETFROM:-0500
TZOFFSETTO:-0400
TZNAME:EDT
DTSTART:20240310T070000
END:DAYLIGHT
BEGIN:STANDARD
TZOFFSETFROM:-0400
TZOFFSETTO:-0500
TZNAME:EST
DTSTART:20241103T060000
END:STANDARD
END:VTIMEZONE
BEGIN:VEVENT
DTSTART;TZID=America/New_York:20230915T160000
DTEND;TZID=America/New_York:20230915T170000
DTSTAMP:20260424T232811
CREATED:20230914T003226Z
LAST-MODIFIED:20230914T003322Z
UID:10000246-1694793600-1694797200@ctwac.org
SUMMARY:Premiere: State of the Ukrainian Counteroffensive
DESCRIPTION:﻿Watch the full conversation here. \nThe war in Ukraine is arguably at its most critical tipping point.  \nHaving won their survival by resisting Russian advances at the beginning of the war\, the Ukranian people are now engaged in a hard-fought counteroffensive to liberate the rest of their territory and citizens. \nOur Fellow Jonah Gosnay sat down with Dr. Fred Kagan to discuss the current state of the counteroffensive and our role in setting up Ukraine for success. \nPremiering: Friday\, September 15 | 4:00 PM | Live on our Youtube channel \nClick here to be notified for the premiere. \n\nThis conversation was recorded as part of the World Affairs Council of Connecticut’s 2023 Global Security Forum: Tipping Points & Tripwires. Register and learn more at www.gsf2023.com. Join us on September 21 and 22.  \n\nFeaturing: \nDr. Fred Kagan | Director of the Critical Threats Project at the American Enterprise Institute \nFrederick W. Kagan\, author of the 2007 report Choosing Victory: A Plan for Success in Iraq\, is one of the intellectual architects of the successful “surge” strategy in Iraq. He is the director of AEI’s Critical Threats Project and a former professor of military history at the US Military Academy at West Point. His books range from Lessons for a Long War (AEI Press\, 2010)\, coauthored with Thomas Donnelly\, to the End of the Old Order: Napoleon and Europe\, 1801-1805 (Da Capo\, 2006). \n\nAbout the 2023 Global Security Forum \nFrom the disruptive potential of AI to Russian threats of nuclear war\, Global Security Forum 2023 will focus on areas that will be critical tipping points for global security in the coming decade. How can we identify these tipping points and prepare for an uncertain future? Learn more at gsf2023.com.  \n\nStay globally involved\nAs a member of the World Affairs Council of Connecticut\, you can get exclusive access to events\, low ticket prices\, and travel opportunities\, build relationships with local leaders and global dignitaries\, and join our community of global citizens. Let us bring the world to you. \nTo renew your membership or become a member\, consider the member levels on our website. Join now so you don’t miss out on exclusive events like this. \nIf you want to check your membership status\, email Abby at anoyes@ctwac.org or log in on the membership site.
URL:https://ctwac.org/event/premiere-state-of-the-ukrainian-counteroffensive/
ATTACH;FMTTYPE=image/png:https://ctwac.org/wp-content/uploads/2023/09/Opening-screen-Ukraine-Counteroffensive.png
END:VEVENT
END:VCALENDAR