BEGIN:VCALENDAR
VERSION:2.0
PRODID:-//World Affairs Council of Connecticut - ECPv6.15.20//NONSGML v1.0//EN
CALSCALE:GREGORIAN
METHOD:PUBLISH
X-ORIGINAL-URL:https://ctwac.org
X-WR-CALDESC:Events for World Affairs Council of Connecticut
REFRESH-INTERVAL;VALUE=DURATION:PT1H
X-Robots-Tag:noindex
X-PUBLISHED-TTL:PT1H
BEGIN:VTIMEZONE
TZID:America/New_York
BEGIN:DAYLIGHT
TZOFFSETFROM:-0500
TZOFFSETTO:-0400
TZNAME:EDT
DTSTART:20220313T070000
END:DAYLIGHT
BEGIN:STANDARD
TZOFFSETFROM:-0400
TZOFFSETTO:-0500
TZNAME:EST
DTSTART:20221106T060000
END:STANDARD
BEGIN:DAYLIGHT
TZOFFSETFROM:-0500
TZOFFSETTO:-0400
TZNAME:EDT
DTSTART:20230312T070000
END:DAYLIGHT
BEGIN:STANDARD
TZOFFSETFROM:-0400
TZOFFSETTO:-0500
TZNAME:EST
DTSTART:20231105T060000
END:STANDARD
BEGIN:DAYLIGHT
TZOFFSETFROM:-0500
TZOFFSETTO:-0400
TZNAME:EDT
DTSTART:20240310T070000
END:DAYLIGHT
BEGIN:STANDARD
TZOFFSETFROM:-0400
TZOFFSETTO:-0500
TZNAME:EST
DTSTART:20241103T060000
END:STANDARD
END:VTIMEZONE
BEGIN:VEVENT
DTSTART;VALUE=DATE:20231201
DTEND;VALUE=DATE:20231203
DTSTAMP:20260424T174704
CREATED:20230615T172044Z
LAST-MODIFIED:20231106T161100Z
UID:10000225-1701388800-1701561599@ctwac.org
SUMMARY:Model United Nations 2023
DESCRIPTION:CTWAC Model United Nations brings together over 1\,000 students from across Connecticut to engage with each other through debate and diplomacy\, preparing them to become future global leaders. \nThe Council’s MUN program is exclusively student-run\, offering students opportunities to take leadership positions and negotiate with peers. At #CTWACMUN\, students experience the inner workings of international policymaking as they tackle global issues and controversies\, navigate crisis scenarios\, debate solutions\, and draft resolutions. \nThrough the MUN program\, students have the opportunity to travel to New York to tour the United Nations Headquarters\, meet diplomats from the countries they are representing\, and discuss timely global issues with the policymakers who are currently working to solve them. \n\nLearn more about the World Affairs Council of Connecticut’s Model UN program and how to get involved here. \nSupport the 2023 Model United Nations
URL:https://ctwac.org/event/model-united-nations-2023/
LOCATION:University of Hartford\, 200 Bloomfield Ave\, West Hartford\, CT\, 06117\, US
ATTACH;FMTTYPE=image/png:https://ctwac.org/wp-content/uploads/2023/06/Model-UN-2023.png
END:VEVENT
END:VCALENDAR