BEGIN:VCALENDAR
VERSION:2.0
PRODID:-//World Affairs Council of Connecticut - ECPv6.15.20//NONSGML v1.0//EN
CALSCALE:GREGORIAN
METHOD:PUBLISH
X-WR-CALNAME:World Affairs Council of Connecticut
X-ORIGINAL-URL:https://ctwac.org
X-WR-CALDESC:Events for World Affairs Council of Connecticut
REFRESH-INTERVAL;VALUE=DURATION:PT1H
X-Robots-Tag:noindex
X-PUBLISHED-TTL:PT1H
BEGIN:VTIMEZONE
TZID:America/New_York
BEGIN:DAYLIGHT
TZOFFSETFROM:-0500
TZOFFSETTO:-0400
TZNAME:EDT
DTSTART:20250309T070000
END:DAYLIGHT
BEGIN:STANDARD
TZOFFSETFROM:-0400
TZOFFSETTO:-0500
TZNAME:EST
DTSTART:20251102T060000
END:STANDARD
BEGIN:DAYLIGHT
TZOFFSETFROM:-0500
TZOFFSETTO:-0400
TZNAME:EDT
DTSTART:20260308T070000
END:DAYLIGHT
BEGIN:STANDARD
TZOFFSETFROM:-0400
TZOFFSETTO:-0500
TZNAME:EST
DTSTART:20261101T060000
END:STANDARD
BEGIN:DAYLIGHT
TZOFFSETFROM:-0500
TZOFFSETTO:-0400
TZNAME:EDT
DTSTART:20270314T070000
END:DAYLIGHT
BEGIN:STANDARD
TZOFFSETFROM:-0400
TZOFFSETTO:-0500
TZNAME:EST
DTSTART:20271107T060000
END:STANDARD
END:VTIMEZONE
BEGIN:VEVENT
DTSTART;TZID=America/New_York:20260511T180000
DTEND;TZID=America/New_York:20260511T193000
DTSTAMP:20260424T133908
CREATED:20260414T194124Z
LAST-MODIFIED:20260416T205206Z
UID:10000421-1778522400-1778527800@ctwac.org
SUMMARY:Second Monday with CTWAC | May 2026
DESCRIPTION:Join fellow World Affairs Council members and friends in conversation over dinner on the issues impacting our world. Connect and engage with others\, share your thoughts\, and explore how we can secure our global future. \nTopic TBA \nThe Details: \nWhen: Monday\, May 11th | 6-7:30PM\nWhere: McCarter & English\, LLP\, Stamford\, CT\nTickets: $20 Members\, $30 Non-members | Registration required\nSpace is limited \nReserve your spot today \n\n\n \n\nUpcoming Second Mondays:\nMay 11th - *Topic TBA\nJune 8th\n*Topics will be announced 1 week prior to events. \n\nPast Second Mondays:\nApril 13th - When Inequality Becomes Instability\nMarch 9th - The Iran Question\nFebruary 9th - Is 'The West' Over?\nJanuary 12th - What Just Happened in Venezuela? \n2025\nDecember 8th - Global Inequality & its Impacts on Societal Stability\nNovember 10th - Nuclear Deterrence in the Age of Drones\nOctober 13th - A New Era of U.S. Foreign Policy\nSeptember 15th - Counterterrorism or Extra-Legal Killings: When Do Strikes on Non-State Targets Cross the Line?\nJune 9th - What's at stake in the India-Pakistan conflict?\nMay 12th - So many elections - what do they all mean?\nApril 28th (Special Edition) – Sudan’s Civil War & Sub-Saharan Africa after USAID\nApril 14th - The Future of Immigration Policy\nMarch 10th - NATO's Uncertain Future\nFebruary 10th – The End of USAID?\nJanuary 13th – Greenland\, the Panama Canal\, and The Future of Immigration Policy \n2024\nDecember 9th – A Rebalancing in the Middle East and the Taiwan Question\nNovember 12th – Foreign Policy in a New Administration\nOctober 14th – The World After the U.S. Election\nSeptember 30th – Worldwide Efforts to Battle - or Embrace - Disinformation\nJuly 15th – The Climate Crisis & Global Instability\nJune 10th – Potential Flash Points - How is the U.S. positioned and what happens next?\nMay 20th – Democratic Systems at a Crossroad\nApril 8th – War in Gaza: How did we get here?\nMarch 11th – Western Consensus on Ukraine: What’s Next? \n\nMission Partners\n\nSupport global engagement in Connecticut by contacting CEO Megan Torrey about sponsorship opportunities. \n\nStay Globally Involved\nRenew your membership or become a member on our website. As a member of the World Affairs Council of Connecticut\, you can get exclusive access to events and travel opportunities\, build relationships with local leaders and global dignitaries\, and join our community of global citizens. Let us bring the world to you.
URL:https://ctwac.org/event/second-monday-with-ctwac-may-2026/
LOCATION:McCarter & English\, Two Stamford Plaza\, 281 Tresser Blvd\, 11th Floor\, Stamford\, CT\, 06901\, United States
CATEGORIES:Fairfield County
ATTACH;FMTTYPE=image/png:https://ctwac.org/wp-content/uploads/2025/03/Second-Mondays-New-Look.png
GEO:41.0518494;-73.5344009
X-APPLE-STRUCTURED-LOCATION;VALUE=URI;X-ADDRESS=McCarter & English Two Stamford Plaza 281 Tresser Blvd 11th Floor Stamford CT 06901 United States;X-APPLE-RADIUS=500;X-TITLE=Two Stamford Plaza\, 281 Tresser Blvd\, 11th Floor:geo:-73.5344009,41.0518494
END:VEVENT
BEGIN:VEVENT
DTSTART;TZID=America/New_York:20260514T173000
DTEND;TZID=America/New_York:20260514T190000
DTSTAMP:20260424T133908
CREATED:20260224T150357Z
LAST-MODIFIED:20260423T155200Z
UID:10000413-1778779800-1778785200@ctwac.org
SUMMARY:250 Years of American Diplomacy
DESCRIPTION:Featuring Michael Brenes\, Director of the Brady-Johnson Program in Grand Strategy at Yale\n\n\n\nAs the United States approaches its 250th anniversary\, we’re taking a closer look at the powerful force that is U.S. diplomacy. \nThe World Affairs Council of Connecticut invites you to a special evening exploring the evolution of U.S. diplomacy – from pivotal decisions to defining figures and from the impact of U.S. leadership on world history to where the U.S. is headed in the century ahead. \nHow did diplomacy shape the nation into a superpower and where is the U.S. headed next? RSVP to find out. \nAfter a great event in Fairfield\, we’re bringing Dr. Brenes to Hartford due to popular demand for another exciting talk about 250 years of U.S. diplomatic power. \n\nDetails\nThursday\, May 14\, 2026 | 6-7pm | Doors open 5:30pm\nMark Twain House & Museum\, Hartford CT\nTickets: $25 General Admission\, $15 Members | No Charge for Students \nReserve your spot today \n\n\n \n\n\nFeaturing\nMichael Brenes is co-director of the Brady-Johnson Program in Grand Strategy and lecturer in history at Yale University. \nHis research interests include United States foreign policy\, political history\, and political economy. He is the author of For Might and Right: Cold War Defense Spending and the Remaking of American Democracy\, published by University of Massachusetts Press in 2020\, and the co-editor (with Daniel Bessner) of Rethinking U.S. Power: Domestic Histories of U.S. Foreign Relations\, published by Palgrave MacMillan in 2024. His next book\, co-authored with Van Jackson\, is titled The Rivalry Peril: How Great-Power Competition Threatens Peace and Weakens Democracy\, and will be published by Yale University Press in January 2025. \nIn addition to his academic articles and book chapters\, his work has been published in The New York Times\, The New Republic\, Foreign Affairs\, Foreign Policy\, Politico\, Dissent\, Boston Review\, The Nation\, and The Chronicle of Higher Education. \nHe is currently writing a history of the War and Terror from the 1990s to the present\, to be published by Grove/Atlantic. He is also finalizing a co-edited volume with Daniel Bessner on Cold War liberalism\, which is under contract with Cambridge University Press. \n\nJoin the Community\nWith continuous breaking global news\, Council membership allows you to understand it all. Members gain lower-cost and exclusive access to discussions with foreign and local leaders\, events with experts and opposing views\, and – most essentially – a community of engaged people like yourself. \nBecome a member or renew today. \n\nMission Partners\n \nSupport global engagement in Connecticut by contacting CEO Megan Torrey about sponsorship opportunities. Learn more on our website about available opportunities. \n\n\n\nThe World Affairs Council of Connecticut provides a platform for open dialogue and the exchange of ideas on global issues. The views expressed by speakers and contributors to this organization’s public programs—in person\, online\, and through affiliated social media sites— are solely their own and do not necessarily represent the official policies or positions of CTWAC\, its individual staff\, board members\, members\, or sponsors. As a nonpartisan and nonpolitical organization\, CTWAC’s purpose is to foster informed discussion and greater understanding of the world\, without endorsing any particular viewpoint.
URL:https://ctwac.org/event/250-years-of-american-diplomacy-hartford/
LOCATION:Mark Twain House & Museum\, 351 Farmington Avenue\, Hartford\, CT\, 06105\, United States
ATTACH;FMTTYPE=image/jpeg:https://ctwac.org/wp-content/uploads/2026/02/Diplomacy-Website.jpg
GEO:41.7670235;-72.7014493
X-APPLE-STRUCTURED-LOCATION;VALUE=URI;X-ADDRESS=Mark Twain House & Museum 351 Farmington Avenue Hartford CT 06105 United States;X-APPLE-RADIUS=500;X-TITLE=351 Farmington Avenue:geo:-72.7014493,41.7670235
END:VEVENT
BEGIN:VEVENT
DTSTART;TZID=America/New_York:20260520T181500
DTEND;TZID=America/New_York:20260520T191500
DTSTAMP:20260424T133908
CREATED:20260420T194449Z
LAST-MODIFIED:20260420T201442Z
UID:10000422-1779300900-1779304500@ctwac.org
SUMMARY:The Global AI Race with Sebastian Mallaby | WorldNow
DESCRIPTION:Artificial intelligence is reshaping the global balance of power. Nations are racing for advantage\, companies are competing for dominance\, and the quest for superintelligence is moving faster than ever. \nJoin us on WorldNow with Jim Falk as we sit down with Sebastian Mallaby\, author of The Infinity Machine: Demis Hassabis\, DeepMind\, & the Quest for Superintelligence and Senior Fellow for International Economics at the Council on Foreign Relations. \nFrom the rise of DeepMind and Silicon Valley to the intensifying global race for AI dominance\, we’ll explore what this technological competition could mean for security\, power\, and the future of the world economy. \nThe details:\nWhen: Wednesday\, May 20th | 6:15pm-7:15pm Eastern\nWhere: Zoom Webinar\nTickets: No charge\, RSVP Required \nReserve your spot today \n\n\n \n\nMeet the Guest\n \nSebastian Mallaby is the author of several books including the bestselling More Money Than God. A former Financial Times contributing editor and two-time Pulitzer Prize finalist\, Mallaby is the Paul A. Volcker Senior Fellow for International Economics at the Council on Foreign Relations. \nHe is the author of the newly published The Infinity Machine: Demis Hassabis\, DeepMind\, and the Quest for Superintelligence.  \n  \n\nMeet the Host\n\nJim Falk is President Emeritus of the World Affairs Council of Dallas/Fort Worth. Now residing in Santa Fe\, NM\, he is Vice Chairman of the Board of Global Santa Fe. In addition to hosting WorldNow with Jim Falk\, Jim produces and hosts The Forum\, a weekly talk show on KSFR-FM\, Santa Fe Public Radio. He is a member of the Council on Foreign Relations. \n  \n  \n\nAbout the Book\nThe Infinity Machine: Demis Hassabis\, DeepMind\, and the Quest for Superintelligence by Sebastian Mallaby \nFrom one of our leading chroniclers of the intersection of innovation and capitalism\, a landmark reckoning—based on unprecedented access—with one of the world’s most brilliant and driven tech visionaries\, and his game-changing company. \n“A fascinating portrait of Demis Hassabis\, the influential thinker heading DeepMind\, Google’s AI research laboratory…Mallaby captures Hassabis’ curiosity and relentless drive\, weaving a vivid tapestry of collaborators\, competitors\, and engineers of modern AI systems…A tantalizing glimpse inside the pursuit of machine superintelligence.”--Kirkus Reviews\, starred review \nGet yourself a copy of The Infinity Machine on Bookshop.org and support your local bookstore \n\nPresented by\nWorldNow with Jim Falk is hosted by the World Affairs Council of Connecticut with the World Affairs Council of Dallas/Fort Worth and the World Affairs Councils of America. Presented in partnership with Councils nationwide: \n \n\nMission Partners\n\nSupport global engagement in Connecticut by contacting CEO Megan Torrey about sponsorship opportunities. Learn more on our website about available opportunities. \n\nStay Globally Involved\nRenew your membership or become a member on our website. Council members gain exclusive\, lower-cost access to global events and travel opportunities\, while engaging with top international leaders. Join our community of global citizens and let us bring the world to you. \n\n\n\nThe World Affairs Council of Connecticut provides a platform for open dialogue and the exchange of ideas on global issues. The views expressed by speakers and contributors to this organization’s public programs—in person\, online\, and through affiliated social media sites— are solely their own and do not necessarily represent the official policies or positions of CTWAC\, its individual staff\, board members\, members\, or sponsors. As a nonpartisan and nonpolitical organization\, CTWAC’s purpose is to foster informed discussion and greater understanding of the world\, without endorsing any particular viewpoint.
URL:https://ctwac.org/event/the-global-ai-race-worldnow/
LOCATION:Zoom Webinar
ATTACH;FMTTYPE=image/png:https://ctwac.org/wp-content/uploads/2026/04/Save-the-Date-Sebastian-Mallaby-Global-AI-Race.png
END:VEVENT
END:VCALENDAR